BEGIN:VCALENDAR
VERSION:2.0
PRODID:-//ChamberMaster//Event Calendar 2.0//EN
METHOD:PUBLISH
X-PUBLISHED-TTL:P3D
REFRESH-INTERVAL:P3D
CALSCALE:GREGORIAN
BEGIN:VEVENT
DTSTART:20220721T160000Z
DTEND:20220721T170000Z
X-MICROSOFT-CDO-ALLDAYEVENT:FALSE
SUMMARY:Ocean Photography
DESCRIPTION:Thursday\, July 21\, 12-1pm\n\nOcean Photography: Discovering New England Marine Life through the Eyes of the American Lobster. Renowned underwater photographer Keith Ellenbogen presents a series of awe-inspiring images and stories about the extraordinary diversity of New England's marine wildlife\, from ocean giants like great white sharks to tiny larval lobsters. Ellenbogen is associate professor of photography at SUNY/Fashion Institute of Technology\, visiting artist at MIT Sea Grant\, and senior fellow at the International League of Conservation Photographers. He is collaborating with the Wells Reserve in support of the NOAA Sea Grant American Lobster Initiative. $5 suggested donation plus site admission. Registration required at 207-646-1555 x116 or suzanne@wellsnerr.org.
X-ALT-DESC;FMTTYPE=text/html:<span style="font-family:calibri\,sans-serif\;"><span style="font-size:11.0pt\;">Thursday\, July 21\, 12-1pm</span></span><br />\n<span style="font-family:calibri\,sans-serif\;"><span style="font-size:11.0pt\;">Ocean Photography: Discovering New England Marine Life through the Eyes of the American Lobster. Renowned underwater photographer Keith Ellenbogen presents a series of awe-inspiring images and stories about the extraordinary diversity of New England&rsquo\;s marine wildlife\, from ocean giants like great white sharks to tiny larval lobsters. Ellenbogen is associate professor of photography at SUNY/Fashion Institute of Technology\, visiting artist at MIT Sea Grant\, and senior fellow at the International League of Conservation Photographers. He is collaborating with the Wells Reserve in support of the NOAA Sea Grant American Lobster Initiative. $5 suggested donation plus site admission. Registration required at 207-646-1555 x116 or suzanne@wellsnerr.org.</span></span><br />\n&nbsp\;
LOCATION:Wells Reserve at Laudholm 342 Laudholm Farm Rd Wells ME 04090 wellsreserve.org
UID:e.3240.3241
SEQUENCE:3
DTSTAMP:20260424T151052Z
URL:https://www.wellschamber.org/events/details/ocean-photography-3241
END:VEVENT

END:VCALENDAR
