BEGIN:VCALENDAR
VERSION:2.0
PRODID:-//ChamberMaster//Event Calendar 2.0//EN
METHOD:PUBLISH
X-PUBLISHED-TTL:P3D
REFRESH-INTERVAL:P3D
CALSCALE:GREGORIAN
BEGIN:VEVENT
DTSTART:20231019T203000Z
DTEND:20231019T214500Z
X-MICROSOFT-CDO-ALLDAYEVENT:FALSE
SUMMARY:Nonfiction Bookgroup
DESCRIPTION:This June\, nonfiction book club participants will discuss American Jezebel by Eve LaPlante. We will hold this meeting in person. Email Cindy at cappleby@wellstown.org for more information.  \n\nJuly's book will be Finders Keepers by Craig Childs.\n\nAugust's book will be Big Oyster by Mark Kurlansky\n\nSeptember's book will be The Bookseller of Kabul by Asne Seierstad\n\nOctober's book will be The American Way of Eating by Tracie MacMillan\n\nNovember's book will be The Sound of Gravel by Ruth Wariner\n\nDecember's book will be The Routes of Man by Ted Conover
X-ALT-DESC;FMTTYPE=text/html:<span style="color:rgb(0\, 0\, 0)\; font-family:arial\,helvetica\,sans-serif\; font-size:12px"><span style="font-size:14px"><strong>This June\, nonfiction book club participants will discuss <em>American J</em><em><em>ezebel </em></em>by Eve LaPlante.</strong></span></span><span style="color:rgb(0\, 0\, 0)\; font-family:arial\,helvetica\,sans-serif\; font-size:12px"><span style="font-size:14px"><strong>&nbsp\;We will hold this meeting in person.&nbsp\;Email Cindy at cappleby@wellstown.org for more information.&nbsp\;&nbsp\;<br />\nJuly&#39\;s book will be <em>Finders Keepers&nbsp\;</em>by Craig Childs.<br />\nAugust&#39\;s book will be <em>Big Oyster</em> by Mark Kurlansky<br />\nSeptember&#39\;s book will be <em>The Bookseller of Kabul</em> by Asne Seierstad<br />\nOctober&#39\;s book will be <em>The American Way of Eating</em> by Tracie MacMillan<br />\nNovember&#39\;s book will be <em>The Sound of Gravel </em>by Ruth Wariner<br />\nDecember&#39\;s book will be <em>The Routes of Man</em> by Ted Conover</strong></span></span>
LOCATION:Wells Public Library 1434 Post Road Wells\, ME 04090
UID:e.3240.3806
SEQUENCE:3
DTSTAMP:20260423T135013Z
URL:https://www.wellschamber.org/events/details/nonfiction-bookgroup-10-19-2023-3806
END:VEVENT

END:VCALENDAR
