BEGIN:VCALENDAR
VERSION:2.0
PRODID:-//ChamberMaster//Event Calendar 2.0//EN
METHOD:PUBLISH
X-PUBLISHED-TTL:P3D
REFRESH-INTERVAL:P3D
CALSCALE:GREGORIAN
BEGIN:VEVENT
DTSTART:20220706T203000Z
DTEND:20220706T213000Z
X-MICROSOFT-CDO-ALLDAYEVENT:FALSE
SUMMARY:Nonfiction Book Group
DESCRIPTION:Nonfiction Book Group\n\nWednesday\, July 6 at 4:30 p.m.\n\nThe Nonfiction book group will meet in person - all are welcome! Our pick for this month is Nothing to Envy: Ordinary Lives in North Korea by Barbara Demick. This free event is sponsored by the Friends of the Wells Public Library. For more information\, please contact Cindy Appleby at cappleby@wellstown.org or call the library at 207-646-8181.
X-ALT-DESC;FMTTYPE=text/html:<strong><span style="background:white\;"><span style="color:#336600\;"><span style="font-family:arial\,sans-serif\;"><span style="font-size:11.0pt\;">Nonfiction Book Group</span></span></span></span></strong><br />\n<strong><span style="color:black\;"><span style="font-family:arial\,sans-serif\;"><span style="font-size:9.0pt\;">Wednesday\, July 6 at 4:30 p.m.</span></span></span></strong><br />\n<span style="background:white\;"><span style="color:black\;">The Nonfiction book group will meet in person - all are welcome! Our pick for this month is&nbsp\;</span></span><em>Nothing to Envy: Ordinary Lives in North Korea </em>by Barbara Demick<span style="background:white\;"><span style="color:black\;">.</span></span> <span style="background:white\;"><span style="color:black\;">This free event is sponsored by the Friends of the Wells Public Library. For more information\, please contact Cindy Appleby at cappleby@wellstown.org or call the library at 207-646-8181.&nbsp\;</span></span><br />\n&nbsp\;
LOCATION:WELLS PUBLIC LIBRARY 1434 Post Road\, Wells\, ME 04090
UID:e.3240.3262
SEQUENCE:3
DTSTAMP:20260424T151901Z
URL:https://www.wellschamber.org/events/details/nonfiction-book-group-3262
END:VEVENT

END:VCALENDAR
