BEGIN:VCALENDAR
VERSION:2.0
PRODID:-//ChamberMaster//Event Calendar 2.0//EN
METHOD:PUBLISH
X-PUBLISHED-TTL:P3D
REFRESH-INTERVAL:P3D
CALSCALE:GREGORIAN
BEGIN:VEVENT
DTSTART:20220730T133000Z
DTEND:20220730T160000Z
X-MICROSOFT-CDO-ALLDAYEVENT:FALSE
SUMMARY:Native New England Shrubs
DESCRIPTION:Saturday\, July 30\, 9:30am-12pm\n\nNative New England Shrubs. Take a close-up look at nine or ten shrubs that occur naturally in New England\, plus a few non-native invasive species. We will focus on key identification characteristics while learning about shrub natural history and lore. We will study a shrub whose fruits can be used to make candles\, a shrub whose berries prevented scurvy on long sea voyages\, and a shrub whose flowers have been used as a remedy for craziness. $13/$10 plus site admission. Registration required at 207-646-1555 x116 or suzanne@wellsnerr.org.
X-ALT-DESC;FMTTYPE=text/html:<span style="font-family:calibri\,sans-serif\;"><span style="font-size:11.0pt\;">Saturday\, July 30\, 9:30am-12pm</span></span><br />\n<span style="font-family:calibri\,sans-serif\;"><span style="font-size:11.0pt\;">Native New England Shrubs. Take a close-up look at nine or ten shrubs that occur naturally in New England\, plus a few non-native invasive species. We will focus on key identification characteristics while learning about shrub natural history and lore. We will study a shrub whose fruits can be used to make candles\, a shrub whose berries prevented scurvy on long sea voyages\, and a shrub whose flowers have been used as a remedy for craziness. $13/$10 plus site admission. Registration required at 207-646-1555 x116 or suzanne@wellsnerr.org.</span></span><br />\n&nbsp\;
LOCATION:Wells Reserve at Laudholm 342 Laudholm Farm Rd Wells ME 04090 wellsreserve.org
UID:e.3240.3250
SEQUENCE:3
DTSTAMP:20260424T150913Z
URL:https://www.wellschamber.org/events/details/native-new-england-shrubs-3250
END:VEVENT

END:VCALENDAR
