BEGIN:VCALENDAR
VERSION:2.0
PRODID:-//ChamberMaster//Event Calendar 2.0//EN
METHOD:PUBLISH
X-PUBLISHED-TTL:P3D
REFRESH-INTERVAL:P3D
CALSCALE:GREGORIAN
BEGIN:VEVENT
DTSTART:20230710T120000Z
DTEND:20230721T200000Z
X-MICROSOFT-CDO-ALLDAYEVENT:FALSE
SUMMARY:Musicville- a New Children's Musical
DESCRIPTION:Ages 9 to 14\n\n2 Week Session\n\n$700\n\nJUN 10 to JUL 21\n\nMON THRU FRI\, 9:00A - 4:00P\n\nThis 60-minute\, NEW children's musical takes you on an adventure with Maiden Melody and Radical Rhythm as they attempt to save their town from the Sorcerer of Silence. On their quest to the Castle of Composition\, they pass through the Desert of Doo-wop\, the Ocean of Opera\, and the Terrible Terrain of Tango meeting musical friends and foes along the way. Their journey teaches them about new kinds of music\, overcoming obstacles\, and the importance of working together! Book\, Music\, and Lyrics by Denver Casado and Betina Hershey. Music Arranged by Denver Casado.\n\nPERFORMANCES FOR FAMILIES AND FRIENDS\n\nYork County Community College\n\nFRI JUL 21   10A and 1PM
X-ALT-DESC;FMTTYPE=text/html:<p>Ages 9 to 14<br />\n2 Week Session<br />\n$700</p>\n\n<p>JUN 10 to JUL 21<br />\nMON THRU FRI\, 9:00A - 4:00P</p>\n\n<p>This 60-minute\, NEW children&rsquo\;s musical takes you on an adventure with Maiden Melody and Radical Rhythm as they attempt to save their town from the Sorcerer of Silence. On their quest to the Castle of Composition\, they pass through the Desert of Doo-wop\, the Ocean of Opera\, and the Terrible Terrain of Tango meeting musical friends and foes along the way. Their journey teaches them about new kinds of music\, overcoming obstacles\, and the importance of working together! Book\, Music\, and Lyrics by Denver Casado and Betina Hershey. Music Arranged by Denver Casado.<br />\n<strong>PERFORMANCES FOR FAMILIES AND FRIENDS</strong><br />\n<em>York County Community College</em><br />\n<span style="background-color:rgb(245\, 245\, 245)\; color:rgb(87\, 87\, 87)\; font-family:poppins\; font-size:16px">FRI JUL 21 &mdash\; 10A and 1PM</span></p>\n
LOCATION:York County Community College
UID:e.3240.3413
SEQUENCE:3
DTSTAMP:20260423T175624Z
URL:https://www.wellschamber.org/events/details/musicville-a-new-children-s-musical-3413
END:VEVENT

END:VCALENDAR
