BEGIN:VCALENDAR
VERSION:2.0
PRODID:-//ChamberMaster//Event Calendar 2.0//EN
METHOD:PUBLISH
X-PUBLISHED-TTL:P3D
REFRESH-INTERVAL:P3D
CALSCALE:GREGORIAN
BEGIN:VEVENT
DTSTART:20220714T193000Z
DTEND:20220714T203000Z
X-MICROSOFT-CDO-ALLDAYEVENT:FALSE
SUMMARY:Music & Trivia with Benjamin Pernick
DESCRIPTION:Music & Trivia with Benjamin Pernick \n\nThursday\, July 14 at 3:30 p.m.\n\nIn this entertaining and engaging program\, musician Ben Pernick combines live performances\, fun facts\, and trivia based on hits through the ages. There'll be tunes from Broadway\, television\, artist retrospectives\, and many other genres. No registration needed! This free event is sponsored by the Friends of the Wells Public Library. For more information\, please contact Stefanie Claydon at sclaydon@wellstown.org or call the library at 207-646-8181.
X-ALT-DESC;FMTTYPE=text/html:<strong><span style="background:white\;"><span style="color:#336600\;"><span style="font-family:arial\,sans-serif\;"><span style="font-size:11.0pt\;">Music &amp\; Trivia with Benjamin Pernick </span></span></span></span></strong><br />\n<strong><span style="font-family:arial\,sans-serif\;"><span style="font-size:9.0pt\;">Thursday\, July 14 at 3:30 p.m.</span></span></strong><br />\n<span style="background:white\;"><span style="color:black\;"><span style="font-family:times new roman\,serif\;"><span style="font-size:10.0pt\;">In this entertaining and engaging program\, musician Ben Pernick combines live performances\, fun facts\, and trivia based on hits through the ages. There&rsquo\;ll be tunes from Broadway\, television\, artist retrospectives\, and many other genres. No registration needed! This free event is sponsored by the Friends of the Wells Public Library. For more information\, please contact Stefanie Claydon at sclaydon@wellstown.org or call the library at 207-646-8181.</span></span></span></span>
LOCATION:WELLS PUBLIC LIBRARY 1434 Post Road\, Wells\, ME 04090
UID:e.3240.3264
SEQUENCE:3
DTSTAMP:20260424T151917Z
URL:https://www.wellschamber.org/events/details/music-trivia-with-benjamin-pernick-3264
END:VEVENT

END:VCALENDAR
