BEGIN:VCALENDAR
VERSION:2.0
PRODID:-//ChamberMaster//Event Calendar 2.0//EN
METHOD:PUBLISH
X-PUBLISHED-TTL:P3D
REFRESH-INTERVAL:P3D
CALSCALE:GREGORIAN
BEGIN:VEVENT
DTSTART:20220711T143000Z
DTEND:20220711T150000Z
X-MICROSOFT-CDO-ALLDAYEVENT:FALSE
SUMMARY:Mother Goose Storytime
DESCRIPTION:Mother Goose Storytime\n\nMonday\, July 11 at 10:30 a.m. \n\nJoin us for Mother Goose Mondays! Children ages 0-24 months and their caregivers are invited to the library to engage in lap activities\, rhymes\, songs\, and fingerplays. This free event is sponsored by the Friends of the Wells Public Library. For more information\, please contact Allison Herman at aherman@wellstown.org or call the library at 207-646-8181.
X-ALT-DESC;FMTTYPE=text/html:<strong><span style="background:white\;"><span style="color:#336600\;"><span style="font-family:arial\,sans-serif\;">Mother Goose Storytime</span></span></span></strong><br />\n<strong><span style="background:white\;"><span style="color:black\;"><span style="font-family:arial\,sans-serif\;"><span style="font-size:9.0pt\;">Monday\, July 11 at 10:30 a.m. </span></span></span></span></strong><br />\n<span style="background:white\;"><span style="color:black\;"><span style="font-family:times new roman\,serif\;"><span style="font-size:10.0pt\;">Join us for Mother Goose Mondays! Children ages 0-24 months and their caregivers are invited to the library to engage in lap activities\, rhymes\, songs\, and fingerplays. This free event is sponsored by the Friends of the Wells Public Library.</span></span></span></span><span style="color:black\;"><span style="font-family:times new roman\,serif\;"><span style="font-size:10.0pt\;"> <span style="background:white\;">For more information\, please contact Allison Herman at </span></span></span></span><span style="font-family:times new roman\,serif\;"><span style="font-size:10.0pt\;"><a href="mailto:aherman@wellstown.org"><span style="background:white\;text-decoration:none\;text-underline:none\;"><span style="color:black\;">aherman@wellstown.org</span></span></a></span></span><span style="background:white\;"><span style="color:black\;"><span style="font-family:times new roman\,serif\;"><span style="font-size:10.0pt\;">&nbsp\;or call the library at 207-646-8181.</span></span></span></span>
LOCATION:WELLS PUBLIC LIBRARY 1434 Post Road\, Wells\, ME 04090
UID:e.3240.3255
SEQUENCE:3
DTSTAMP:20260424T152054Z
URL:https://www.wellschamber.org/events/details/mother-goose-storytime-3255
END:VEVENT

END:VCALENDAR
