BEGIN:VCALENDAR
VERSION:2.0
PRODID:-//ChamberMaster//Event Calendar 2.0//EN
METHOD:PUBLISH
X-PUBLISHED-TTL:P3D
REFRESH-INTERVAL:P3D
CALSCALE:GREGORIAN
BEGIN:VEVENT
DTSTART:20220705T120000Z
DTEND:20220705T131500Z
X-MICROSOFT-CDO-ALLDAYEVENT:FALSE
SUMMARY:Morning Yoga
DESCRIPTION:Tuesday\, July 5\, 8am-9:15am\n\nMorning Yoga. A new 7-week series of gentle Hatha yoga classes begins both online and in person at the Wells Reserve. Increase your strength\, flexibility\, endurance\, focus\, and concentration with guidance from Leslie Fiore\, founder of Port Yoga in Kennebunkport\, who has been practicing and teaching yoga for 20 years. The series costs $84/regular or $70/member. Registration required. Call 207-646-1555 ext 116 or email suzanne@wellsnerr.org to reserve your space.
X-ALT-DESC;FMTTYPE=text/html:<span style="font-family:calibri\,sans-serif\;"><span style="font-size:11.0pt\;">Tuesday\, July 5\, 8am-9:15am</span></span><br />\nMorning Yoga. A new 7-week series of gentle Hatha yoga classes begins both online and in person at the Wells Reserve. Increase your strength\, flexibility\, endurance\, focus\, and concentration with guidance from Leslie Fiore\, founder of Port Yoga in Kennebunkport\, who has been practicing and teaching yoga for 20 years. The series costs $84/regular or $70/member. Registration required. Call 207-646-1555 ext 116 or email suzanne@wellsnerr.org to reserve your space.<br />\n&nbsp\;
LOCATION:Wells Reserve at Laudholm 342 Laudholm Farm Rd Wells ME 04090 wellsreserve.org
UID:e.3240.3225
SEQUENCE:3
DTSTAMP:20260424T151955Z
URL:https://www.wellschamber.org/events/details/morning-yoga-3225
END:VEVENT

END:VCALENDAR
