BEGIN:VCALENDAR
VERSION:2.0
PRODID:-//ChamberMaster//Event Calendar 2.0//EN
METHOD:PUBLISH
X-PUBLISHED-TTL:P3D
REFRESH-INTERVAL:P3D
CALSCALE:GREGORIAN
BEGIN:VEVENT
DTSTART:20231209T150000Z
DTEND:20231209T160000Z
X-MICROSOFT-CDO-ALLDAYEVENT:FALSE
SUMMARY:Morning at the Museum Childrens' Program
DESCRIPTION:Join us for a fun\, free holiday childrens' program! We'll enjoy stories\, crafts\, and scavenger hunts in the museum. It's a fun way to kick-off the holiday season! Free! All ages welcome.
X-ALT-DESC;FMTTYPE=text/html:Join us for a fun\, free holiday childrens&#39\; program! We&#39\;ll enjoy stories\, crafts\, and scavenger hunts in the museum. It&#39\;s a fun way to kick-off the holiday season! Free! All ages welcome.
LOCATION:Historical Society of Wells and Ogunquit 938 Post Road Wells\, Maine 04090
UID:e.3240.4077
SEQUENCE:3
DTSTAMP:20260423T083726Z
URL:https://www.wellschamber.org/events/details/morning-at-the-museum-childrens-program-4077
END:VEVENT

END:VCALENDAR
