BEGIN:VCALENDAR
VERSION:2.0
PRODID:-//ChamberMaster//Event Calendar 2.0//EN
METHOD:PUBLISH
X-PUBLISHED-TTL:P3D
REFRESH-INTERVAL:P3D
CALSCALE:GREGORIAN
BEGIN:VEVENT
DTSTART:20221015T010000Z
DTEND:20221015T023000Z
X-MICROSOFT-CDO-ALLDAYEVENT:FALSE
SUMMARY:Moondance - The Ultimate Van Morrison Tribute Show
DESCRIPTION:Rock and roll doesn't get any better than Van Morrison. Van the Man has done it all - from classic rockers like Brown Eyed Girl and Domino to legendary tunes like Tupelo Honey and Into The Mystic\, the Rock and Roll Hall of Famer has never failed to impress music lovers around the globe.\n\n\n\nMoondance is the ultimate Van Morrison Tribute Concert. This incredible show captures the Van Morrison concert experience like no other. You'll hear classic tunes - Brown Eyed Girl\, Moondance\, Domino\, It Stoned Me\, Tupelo Honey\, Wild Night\, Into The Mystic\, Caravan - just to name a few. The show is packed with one VM classic after the next.\n\n\n\n"An incredible recreation of the Irish legend." - LA Times\n\n\n\n"If Van Morrison isn't coming to your town\, Moondance is the next best thing!" - Dallas News\n\n\n\n"A very impressive and realistic portrayal of Van Morrison a must see." - Hawaii Reporter
X-ALT-DESC;FMTTYPE=text/html:<span style="color:rgb(42\, 42\, 42)\; font-family:open sans\,arial\,helvetica\,sans-serif\; font-size:12.25px">Rock and roll doesn&rsquo\;t get any better than Van Morrison. Van the Man has done it all - from classic rockers like Brown Eyed Girl and Domino to legendary tunes like Tupelo Honey and Into The Mystic\, the Rock and Roll Hall of Famer has never failed to impress music lovers around the globe.</span><br />\n<br />\n<span style="color:rgb(42\, 42\, 42)\; font-family:open sans\,arial\,helvetica\,sans-serif\; font-size:12.25px">Moondance&nbsp\;is the ultimate Van Morrison Tribute Concert. This incredible show captures the Van Morrison concert experience like no other. You&rsquo\;ll hear classic tunes - Brown Eyed Girl\,&nbsp\;Moondance\, Domino\, It Stoned Me\, Tupelo Honey\, Wild Night\, Into The Mystic\, Caravan - just to name a few. The show is packed with one VM classic after the next.</span><br />\n<br />\n<span style="color:rgb(42\, 42\, 42)\; font-family:open sans\,arial\,helvetica\,sans-serif\; font-size:12.25px">&quot\;An incredible recreation of the Irish legend.&quot\; - LA Times</span><br />\n<br />\n<span style="color:rgb(42\, 42\, 42)\; font-family:open sans\,arial\,helvetica\,sans-serif\; font-size:12.25px">&quot\;If Van Morrison isn&rsquo\;t coming to your town\,&nbsp\;Moondance&nbsp\;is the next best thing!&quot\; - Dallas News</span><br />\n<br />\n<span style="color:rgb(42\, 42\, 42)\; font-family:open sans\,arial\,helvetica\,sans-serif\; font-size:12.25px">&quot\;A very impressive and realistic portrayal of Van Morrison&hellip\;a must see.&quot\; - Hawaii Reporter</span>
LOCATION:Jonathan's Ogunquit Upstairs Listening Room
UID:e.3240.3318
SEQUENCE:3
DTSTAMP:20260424T114620Z
URL:https://www.wellschamber.org/events/details/moondance-the-ultimate-van-morrison-tribute-show-10-14-2022-3318
END:VEVENT

END:VCALENDAR
