BEGIN:VCALENDAR
VERSION:2.0
PRODID:-//ChamberMaster//Event Calendar 2.0//EN
METHOD:PUBLISH
X-PUBLISHED-TTL:P3D
REFRESH-INTERVAL:P3D
CALSCALE:GREGORIAN
BEGIN:VEVENT
DTSTART:20220723T140000Z
DTEND:20220723T190000Z
X-MICROSOFT-CDO-ALLDAYEVENT:FALSE
SUMMARY:Market at the Meetinghouse
DESCRIPTION:Join us for a fun day of crafters\, artists\, and activities at the Historic First Church Meetinghouse in Wells! Admission to the craft fair is FREE!
X-ALT-DESC;FMTTYPE=text/html:Join us for a fun day of crafters\, artists\, and activities at the Historic First Church Meetinghouse in Wells! Admission to the craft fair is FREE!
LOCATION:938 Post Road Wells\, Maine 04090
UID:e.3240.2936
SEQUENCE:3
DTSTAMP:20260424T152619Z
URL:https://www.wellschamber.org/events/details/market-at-the-meetinghouse-07-23-2022-2936
END:VEVENT

END:VCALENDAR
