BEGIN:VCALENDAR
VERSION:2.0
PRODID:-//ChamberMaster//Event Calendar 2.0//EN
METHOD:PUBLISH
X-PUBLISHED-TTL:P3D
REFRESH-INTERVAL:P3D
CALSCALE:GREGORIAN
BEGIN:VEVENT
DTSTART:20230912T180000Z
DTEND:20230912T190000Z
X-MICROSOFT-CDO-ALLDAYEVENT:FALSE
SUMMARY:Maine's Oyster Story: Past\, Present\, and Future
DESCRIPTION:Jaclyn Robidoux and Annie Fagan\, marine extension associates from the Maine Sea Grant program\, will take you through the past\, present and future of Maine's oyster story. We'll begin with the history of Wabanaki shellfish harvesters\, then discuss today's thriving oyster aquaculture industry and share some innovations coming down the pipeline. Jaclyn and Annie will cover growing techniques\, Maine farmers\, sustainability\, tourism - and answer questions you may have about Maine oysters!  For more information\, please contact Stefanie Claydon at sclaydon@wellstown.org or by calling the library at 207-646-8181.
X-ALT-DESC;FMTTYPE=text/html:<span style="color:#242424">Jaclyn Robidoux and Annie Fagan\, marine extension associates from the Maine Sea Grant program\, will take you through the past\, present and future of Maine&#39\;s oyster story. We&#39\;ll begin&nbsp\;with the history of Wabanaki shellfish harvesters\, then discuss today&#39\;s thriving oyster aquaculture industry and share some innovations coming down the pipeline. Jaclyn and Annie will cover growing techniques\, Maine farmers\, sustainability\, tourism - and answer questions you may have about Maine oysters!&nbsp\; </span><span style="color:#050505">For more information\, please contact Stefanie Claydon at sclaydon@wellstown.org or by calling the library at 207-646-8181.</span>
LOCATION:Wells Public Library 1434 Post Road Wells\, ME 04090
UID:e.3240.3838
SEQUENCE:3
DTSTAMP:20260422T101803Z
URL:https://www.wellschamber.org/events/details/maine-s-oyster-story-past-present-and-future-3838
END:VEVENT

END:VCALENDAR
