BEGIN:VCALENDAR
VERSION:2.0
PRODID:-//ChamberMaster//Event Calendar 2.0//EN
METHOD:PUBLISH
X-PUBLISHED-TTL:P3D
REFRESH-INTERVAL:P3D
CALSCALE:GREGORIAN
BEGIN:VEVENT
DTSTART:20230805T220000Z
DTEND:20230806T010000Z
X-MICROSOFT-CDO-ALLDAYEVENT:FALSE
SUMMARY:Maine Comedy ALL STARS ft. Maine's best headliners hosted by Ian Stuart of the Welcome to Maine Show!
DESCRIPTION:Maine Comedy ALL STARS: The Who's Who of Maine Comedy!\n\nFt. 3 of Maine's Best Headliners!\n\nHosted by Ian Stuart of the Welcome to Maine Show!\n\nDoors 6pm\n\n \n\nTickets are nonrefundable and nontransferable
X-ALT-DESC;FMTTYPE=text/html:<p>Maine Comedy ALL STARS: The Who&#39\;s Who of Maine Comedy!</p>\n\n<p>Ft. 3 of Maine&#39\;s Best Headliners!</p>\n\n<p>Hosted by Ian Stuart of the Welcome to Maine Show!</p>\n\n<p>Doors 6pm</p>\n\n<p>&nbsp\;</p>\n\n<p>Tickets are nonrefundable and nontransferable</p>\n
LOCATION:Pilots Cove Cafe 199 Airport Rd. Sanford\, Maine
UID:e.3240.3715
SEQUENCE:3
DTSTAMP:20260423T160028Z
URL:https://www.wellschamber.org/events/details/maine-comedy-all-stars-ft-maine-s-best-headliners-hosted-by-ian-stuart-of-the-welcome-to-maine-show-3715
END:VEVENT

END:VCALENDAR
