BEGIN:VCALENDAR
VERSION:2.0
PRODID:-//ChamberMaster//Event Calendar 2.0//EN
METHOD:PUBLISH
X-PUBLISHED-TTL:P3D
REFRESH-INTERVAL:P3D
CALSCALE:GREGORIAN
BEGIN:VEVENT
DTSTART:20230721T220000Z
DTEND:20230722T010000Z
X-MICROSOFT-CDO-ALLDAYEVENT:FALSE
SUMMARY:LoVeSeXy tribute 2 the music of PRINCE! Live at Pilots Cove Cafe!
DESCRIPTION:LoVeSeXy is New England's Premier tribute 2 the music of PRINCE!\n\n \n\n LoVeSeXy performs a remarkable\, spot-on sound-alike\, hi-energy show featuring a wide range of songs including all of PRINCE's greatest hits\, from his early years & throughout his long career.LoVeSeXy features lead vocalist/frontman Giovanni Morant\, a dynamic seasoned entertainer with a remarkably similar voice a charismatic personality\, killer dance moves & a strong stage presence. Gio also plays guitar\, keyboard & trumpet.   Joined by acclaimed guitarist/vocalist Jodee Frawlee (Guitar Player Magazine's national talent search finalist & "Boston's Best Guitarist" award winner) with a multi-talented line-up of accomplished musicians who've established themselves as one of the finest 6-piece Prince tribute acts in the Northeast and nationally. LoVeSeXy was nominated "Best Tribute Band" by Motif Magazine in 2016 & "Favorite Tribute Band" by MyFM local music awards in 2018!  They were also the featured act at Boston JazzFest 2016 & the New England Music Awards in 2018. The band was recently nominated for "Best Tribute Act" by the Worcester Music Awards / Pulse Magazine in 2022.\n\nJoin LoVeSeXy as they celebrate his music\, life\, legacy\, and everlasting spirit.
X-ALT-DESC;FMTTYPE=text/html:<p>LoVeSeXy&nbsp\;is New England&#39\;s Premier tribute 2 the music of PRINCE!</p>\n\n<p>&nbsp\;</p>\n\n<p>&nbsp\;LoVeSeXy&nbsp\;performs a remarkable\, spot-on sound-alike\, hi-energy show featuring&nbsp\;a wide range of songs including all of PRINCE&#39\;s greatest hits\, from his early years &amp\; throughout his long career.LoVeSeXy&nbsp\;features lead vocalist/frontman Giovanni Morant\, a dynamic seasoned entertainer&nbsp\;with a remarkably similar voice a charismatic personality\, killer dance moves &amp\; a strong stage presence.&nbsp\;Gio also plays guitar\, keyboard &amp\; trumpet.&nbsp\; &nbsp\;Joined by acclaimed guitarist/vocalist Jodee Frawlee&nbsp\;(Guitar Player Magazine&#39\;s national talent search finalist &amp\; &quot\;Boston&#39\;s Best Guitarist&quot\; award winner)&nbsp\;with a multi-talented line-up of accomplished musicians who&#39\;ve established themselves&nbsp\;as one of the finest 6-piece Prince tribute acts in the Northeast and nationally.&nbsp\;LoVeSeXy&nbsp\;was nominated&nbsp\;&quot\;Best Tribute Band&quot\; by Motif Magazine in 2016 &amp\;&nbsp\;&quot\;Favorite Tribute Band&quot\;&nbsp\;by MyFM local music awards in 2018!&nbsp\;&nbsp\;They were also the featured act at Boston JazzFest 2016&nbsp\;&amp\; the New England Music Awards in 2018. The band was recently nominated for &quot\;Best Tribute Act&quot\;&nbsp\;by the Worcester Music Awards / Pulse Magazine in 2022.</p>\n\n<p>Join&nbsp\;LoVeSeXy&nbsp\;as they celebrate his music\, life\, legacy\, and everlasting spirit.</p>\n
LOCATION:199 Airport Rd. Sanford\, Maine
UID:e.3240.3714
SEQUENCE:3
DTSTAMP:20260423T175933Z
URL:https://www.wellschamber.org/events/details/lovesexy-tribute-2-the-music-of-prince-live-at-pilots-cove-cafe-3714
END:VEVENT

END:VCALENDAR
