BEGIN:VCALENDAR
VERSION:2.0
PRODID:-//ChamberMaster//Event Calendar 2.0//EN
METHOD:PUBLISH
X-PUBLISHED-TTL:P3D
REFRESH-INTERVAL:P3D
CALSCALE:GREGORIAN
BEGIN:VEVENT
DTSTART:20220717T000000Z
DTEND:20220717T020000Z
X-MICROSOFT-CDO-ALLDAYEVENT:FALSE
SUMMARY:Liv N' Brilliant
DESCRIPTION:Liv N' Brilliant boasts a well-defined musical precept: keep rock music alive. One listen to this energetic group of young musicians and you will believe that it never even skipped a heartbeat. Hailing from Southern Maine\, this dynamic fellowship of five strives to re-energize the musical landscape of today. The pure passion with which they play not only showcases their distinct blend of modern roots-rock blues\, it creates more momentum than a meteorite.\n\n\n\nThe Runaway on Sanford Seacoast Regional Airport is Southern Maine's premier entertainment venue boasting an outdoor craft beer garden with 27 taps\, cocktail bar and full food menu.\n\n\n\nIG/FB @therunawayatpcc\n\n\n\nTickets available now at www.therunawayatpcc.com\n\n\n\n?21+ show - must have valid ID for entry
X-ALT-DESC;FMTTYPE=text/html:Liv N&#39\; Brilliant boasts a well-defined musical precept: keep rock music alive. One listen to this energetic group of young musicians and you will believe that it never even skipped a heartbeat. Hailing from Southern Maine\, this dynamic fellowship of five strives to re-energize the musical landscape of today. The pure passion with which they play not only showcases their distinct blend of modern roots-rock blues\, it creates more momentum than a meteorite.<br />\n<br />\nThe Runaway on Sanford Seacoast Regional Airport is Southern Maine&#39\;s premier entertainment venue boasting an outdoor craft beer garden with 27 taps\, cocktail bar and full food menu.<br />\n<br />\nIG/FB @therunawayatpcc<br />\n<br />\nTickets available now at www.therunawayatpcc.com<br />\n<br />\n?21+ show - must have valid ID for entry
LOCATION:199 Airport Rd Sanford\, Maine
UID:e.3240.2701
SEQUENCE:3
DTSTAMP:20260424T152202Z
URL:https://www.wellschamber.org/events/details/liv-n-brilliant-07-16-2022-2701
END:VEVENT

END:VCALENDAR
