BEGIN:VCALENDAR
VERSION:2.0
PRODID:-//ChamberMaster//Event Calendar 2.0//EN
METHOD:PUBLISH
X-PUBLISHED-TTL:P3D
REFRESH-INTERVAL:P3D
CALSCALE:GREGORIAN
BEGIN:VEVENT
DTSTART:20230713T130000Z
DTEND:20230713T180000Z
X-MICROSOFT-CDO-ALLDAYEVENT:FALSE
SUMMARY:Little's Summer Dance Party
DESCRIPTION:SonDance Academy is holding their Little's Summer Dance Party Summer Camp for ages 4-8\, July 10th through 14th from 9:00AM to 2:00PM.  Cost is $125.\n\nCall SonDance at 207-985-9287\n\nRegister here
X-ALT-DESC;FMTTYPE=text/html:SonDance Academy is holding their Little&#39\;s Summer Dance Party Summer Camp for ages 4-8\, July 10th through 14th from 9:00AM to 2:00PM.&nbsp\; Cost is $125.<br />\nCall SonDance at 207-985-9287<br />\nRegister <a href="https://sondanceacademy.messiahchristianchurch.org/sondance-summer-camp/"><span style="color:#800080"><strong>here</strong></span></a>
LOCATION:SonDance Academy 2700 Post Road Wells\, ME 04090
UID:e.3240.3766
SEQUENCE:3
DTSTAMP:20260423T194131Z
URL:https://www.wellschamber.org/events/details/little-s-summer-dance-party-07-13-2023-3766
END:VEVENT

END:VCALENDAR
