BEGIN:VCALENDAR
VERSION:2.0
PRODID:-//ChamberMaster//Event Calendar 2.0//EN
METHOD:PUBLISH
X-PUBLISHED-TTL:P3D
REFRESH-INTERVAL:P3D
CALSCALE:GREGORIAN
BEGIN:VEVENT
DTSTART:20230629T130000Z
DTEND:20230629T180000Z
X-MICROSOFT-CDO-ALLDAYEVENT:FALSE
SUMMARY:Little's Summer Dance Party
DESCRIPTION:SonDance Academy is holding their Summer Dance Camp\, Little's Summer Dance Party\, June 26th-30th for children ages 4-8.  Cost is $125.
X-ALT-DESC;FMTTYPE=text/html:SonDance Academy is holding their Summer Dance Camp\, Little&#39\;s Summer Dance Party\, June 26th-30th for children ages 4-8.&nbsp\; Cost is $125.&nbsp\;
LOCATION:SonDance Academy 2700 Post Road Wells\, ME 04090
UID:e.3240.3759
SEQUENCE:3
DTSTAMP:20260423T194131Z
URL:https://www.wellschamber.org/events/details/little-s-summer-dance-party-06-29-2023-3759
END:VEVENT

END:VCALENDAR
