BEGIN:VCALENDAR
VERSION:2.0
PRODID:-//ChamberMaster//Event Calendar 2.0//EN
METHOD:PUBLISH
X-PUBLISHED-TTL:P3D
REFRESH-INTERVAL:P3D
CALSCALE:GREGORIAN
BEGIN:VEVENT
DTSTART:20220729T140000Z
DTEND:20220729T153000Z
X-MICROSOFT-CDO-ALLDAYEVENT:FALSE
SUMMARY:Les Secrets du Marais Sale
DESCRIPTION:Friday\, July 29\, 10-11:30am\n\nLes Secrets du Marais Sal . Learn the secrets of this special place\, nestled between the forest and seashore.\n\nApprenez les secrets de cette place unique\, nich e entre la for t et le bord de la mer. Free with site admission. Registration required at caryn@wellsnerr.org or 207-646-1555 ext 110. FMI wellsreserve.org/calendar.
X-ALT-DESC;FMTTYPE=text/html:Friday\, July 29\, 10-11:30am<br />\n<span style="font-family:calibri\,sans-serif\;"><span style="font-size:11.0pt\;">Les Secrets du Marais Sal&eacute\;.</span></span> <span style="font-family:calibri\,sans-serif\;"><span style="font-size:11.0pt\;">Learn the secrets of this special place\, nestled between the forest and seashore.</span></span><br />\n<span style="font-family:calibri\,sans-serif\;"><span style="font-size:11.0pt\;">Apprenez les secrets de cette place unique\, nich&eacute\;e entre la for&ecirc\;t et le bord de la mer. </span></span><span style="font-family:calibri\,sans-serif\;"><span style="font-size:11.0pt\;">Free with site admission. Registration required at caryn@wellsnerr.org or 207-646-1555 ext 110. </span></span><span style="font-family:calibri\,sans-serif\;"><span style="font-size:11.0pt\;">FMI wellsreserve.org/calendar.</span></span><br />\n&nbsp\;
LOCATION:Wells Reserve at Laudholm 342 Laudholm Farm Rd Wells ME 04090 wellsreserve.org
UID:e.3240.3249
SEQUENCE:3
DTSTAMP:20260424T151215Z
URL:https://www.wellschamber.org/events/details/les-secrets-du-marais-sale-3249
END:VEVENT

END:VCALENDAR
