BEGIN:VCALENDAR
VERSION:2.0
PRODID:-//ChamberMaster//Event Calendar 2.0//EN
METHOD:PUBLISH
X-PUBLISHED-TTL:P3D
REFRESH-INTERVAL:P3D
CALSCALE:GREGORIAN
BEGIN:VEVENT
DTSTART:20220712T223000Z
DTEND:20220712T233000Z
X-MICROSOFT-CDO-ALLDAYEVENT:FALSE
SUMMARY:Landing the Lobster: Sustainable Lobstering in Maine
DESCRIPTION:Participants learn about the early history of the lobster industry and discuss the techniques and economic significance of lobstering in Maine today. We also take a closer look at the lobster's anatomy and life cycle.  This program is presented by the Maine State Museum via Zoom.  Please email sclaydon@wellstown.org for your own Zoom invitation or join the presentation at the library. For more information\, please contact Stefanie Claydon at sclaydon@wellstown.org or call the library at 207-646-8181.
X-ALT-DESC;FMTTYPE=text/html:<span style="color:black"><span style="font-family:calibri\,sans-serif"><span style="font-size:11.0pt">Participants learn about the early history of the lobster industry and discuss the techniques and economic significance of lobstering in Maine today. We also take a closer look at the lobster&rsquo\;s anatomy and life cycle.&nbsp\; This program is presented by the Maine State Museum via Zoom.&nbsp\; Please email </span></span></span><span style="color:black"><a href="mailto:sclaydon@wellstown.org"><span style="font-family:calibri\,sans-serif"><span style="font-size:11.0pt">sclaydon@wellstown.org</span></span></a></span><span style="color:black"><span style="font-family:calibri\,sans-serif"><span style="font-size:11.0pt"> for your own Zoom invitation or join the presentation at the library. </span></span></span><span style="color:black"><span style="font-family:calibri\,sans-serif"><span style="font-size:11.0pt">For more information\, please contact Stefanie Claydon at sclaydon@wellstown.org or call the library at 207-646-8181.</span></span></span>
LOCATION:
UID:e.3240.3214
SEQUENCE:3
DTSTAMP:20260424T152618Z
URL:https://www.wellschamber.org/events/details/landing-the-lobster-sustainable-lobstering-in-maine-3214
END:VEVENT

END:VCALENDAR
