BEGIN:VCALENDAR
VERSION:2.0
PRODID:-//ChamberMaster//Event Calendar 2.0//EN
METHOD:PUBLISH
X-PUBLISHED-TTL:P3D
REFRESH-INTERVAL:P3D
CALSCALE:GREGORIAN
BEGIN:VEVENT
DTSTART:20231019T180000Z
DTEND:20231019T190000Z
X-MICROSOFT-CDO-ALLDAYEVENT:FALSE
SUMMARY:Knock Out Browntail Moths
DESCRIPTION:The browntail moth is an invasive insect which was accidently introduced into Somerville\, MA from Europe in 1897. By 1913\, the insect had spread to all of the New England states\, New Brunswick and Nova Scotia. Browntail moth populations are building in Maine once again and are found in patches along the coast and up to 60 miles inland from the western Maine border to the New Brunswick border\, with the greatest concentrations in mid-coastal Maine and the capital region. Come by the library for an informational session from the Department of Agriculture\, Conservation\, and Forestry all about brown tail moths and how you can protect yourself and your yard from infestations.  For more information\, please contact Stefanie Claydon at sclaydon@wellstown.org or by calling the library at 207-646-8181.
X-ALT-DESC;FMTTYPE=text/html:<span style="color:#141414">The browntail moth is an invasive insect which was accidently introduced into Somerville\, MA from Europe in 1897. By 1913\, the insect had spread to all of the New England states\, New Brunswick and Nova Scotia. Browntail moth populations are building in Maine once again and are found in patches along the coast and up to 60 miles inland from the western Maine border to the New Brunswick border\, with the greatest concentrations in mid-coastal Maine and the capital region. Come by the library for an informational session from the Department of Agriculture\, Conservation\, and Forestry all about brown tail moths and how you can protect yourself and your yard from infestations.&nbsp\; </span><span style="color:#050505">For more information\, please contact Stefanie Claydon at sclaydon@wellstown.org or by calling the library at 207-646-8181.</span>
LOCATION:Wells Public Library 1434 Post Road\, Route 1\, Wells
UID:e.3240.4054
SEQUENCE:3
DTSTAMP:20260423T114741Z
URL:https://www.wellschamber.org/events/details/knock-out-browntail-moths-4054
END:VEVENT

END:VCALENDAR
