BEGIN:VCALENDAR
VERSION:2.0
PRODID:-//ChamberMaster//Event Calendar 2.0//EN
METHOD:PUBLISH
X-PUBLISHED-TTL:P3D
REFRESH-INTERVAL:P3D
CALSCALE:GREGORIAN
BEGIN:VEVENT
DTSTART:20220714T173000Z
DTEND:20220714T180000Z
X-MICROSOFT-CDO-ALLDAYEVENT:FALSE
SUMMARY:Kid's Move to the Groove
DESCRIPTION:Kid's Move to the Groove\n\nThursday\, July 14 at 1:30 p.m.\n\nBoard-Certified Music Therapist Ben Pernick is coming to present a high-energy program that makes fitness fun! Ben leads a variety of stretches and exercises to the beat of classic hit songs. There will also be mindful breathing exercises and brain games mixed in\, making this a fun event one you won't want to miss! This free event is sponsored by the Friends of the Wells Public Library. For more information\, please contact Allison Herman at aherman@wellstown.org or call the library at 207-646-8181.
X-ALT-DESC;FMTTYPE=text/html:<strong><span style="color:#336600\;"><span style="font-family:arial\,sans-serif\;">Kid&rsquo\;s Move to the Groove</span></span></strong><br />\n<strong><span style="font-family:arial\,sans-serif\;"><span style="font-size:9.0pt\;">Thursday\, July 14 at 1:30 p.m.</span></span></strong><br />\n<span style="background:white\;"><span style="color:black\;"><span style="font-family:calibri\,sans-serif\;"><span style="font-size:11.0pt\;">Board-Certified Music Therapist Ben Pernick is coming to present a high-energy program that makes fitness fun! Ben leads a variety of stretches and exercises to the beat of classic hit songs. There will also be mindful breathing exercises and brain games mixed in\, making this a fun event one you won&rsquo\;t want to miss! This free event is sponsored by the Friends of the Wells Public Library. For more information\, please contact Allison Herman at </span></span></span></span><a href="mailto:aherman@wellstown.org"><span style="background:white\;text-decoration:none\;text-underline:none\;"><span style="color:black\;"><span style="font-family:calibri\,sans-serif\;"><span style="font-size:11.0pt\;">aherman@wellstown.org</span></span></span></span></a><span style="background:white\;"><span style="color:black\;"><span style="font-family:calibri\,sans-serif\;"><span style="font-size:11.0pt\;">&nbsp\;or call the library at 207-646-8181.</span></span></span></span><br />\n&nbsp\;
LOCATION:WELLS PUBLIC LIBRARY 1434 Post Road\, Wells\, ME 04090
UID:e.3240.3256
SEQUENCE:3
DTSTAMP:20260424T151350Z
URL:https://www.wellschamber.org/events/details/kid-s-move-to-the-groove-3256
END:VEVENT

END:VCALENDAR
