BEGIN:VCALENDAR
VERSION:2.0
PRODID:-//ChamberMaster//Event Calendar 2.0//EN
METHOD:PUBLISH
X-PUBLISHED-TTL:P3D
REFRESH-INTERVAL:P3D
CALSCALE:GREGORIAN
BEGIN:VEVENT
DTSTART:20240706T130000Z
DTEND:20240706T190000Z
X-MICROSOFT-CDO-ALLDAYEVENT:FALSE
SUMMARY:Kennebunk Artisans Market
DESCRIPTION:The Marketplace provides shoppers with a wide variety of items created by over two dozen Maine based artisans. A juried application process is utilized to ensure a high level of quality and diversification for all items being sold. Variety of Artisans differ weekly.
X-ALT-DESC;FMTTYPE=text/html:The Marketplace provides shoppers with a wide variety of items created by over two dozen Maine based artisans. A juried application process is utilized to ensure a high level of quality and diversification for all items being sold. Variety of Artisans differ weekly.
LOCATION:Waterhouse Center 51 Main Street\, Route 1\, Kennebunk
UID:e.3240.4265
SEQUENCE:3
DTSTAMP:20260422T181603Z
URL:https://www.wellschamber.org/events/details/kennebunk-artisans-market-07-06-2024-4265
END:VEVENT

END:VCALENDAR
