BEGIN:VCALENDAR
VERSION:2.0
PRODID:-//ChamberMaster//Event Calendar 2.0//EN
METHOD:PUBLISH
X-PUBLISHED-TTL:P3D
REFRESH-INTERVAL:P3D
CALSCALE:GREGORIAN
BEGIN:VEVENT
DTSTART:20220713T133000Z
DTEND:20220713T163000Z
X-MICROSOFT-CDO-ALLDAYEVENT:FALSE
SUMMARY:Kayaking on the Little River Estuary
DESCRIPTION:Wednesday\, July 13\, 9:30am-12:30pm\n\nKayaking on the Little River Estuary. Paddle the quiet waters of a Maine estuary\, watching for wildlife and learning about this treasured habitat from a registered Maine Kayak Guide. For ages 12 and up and some restrictions apply. $60/$48 plus site admission. Registration required. Wells Reserve at Laudholm. 207-646-1555 or wellsreserve.org/kayak.
X-ALT-DESC;FMTTYPE=text/html:<span style="font-family:calibri\,sans-serif\;"><span style="font-size:11.0pt\;">Wednesday\, July 13\, 9:30am-12:30pm</span></span><br />\nKayaking on the Little River Estuary. Paddle the quiet waters of a Maine estuary\, watching for wildlife and learning about this treasured habitat from a registered Maine Kayak Guide. For ages 12 and up and some restrictions apply. $60/$48 plus site admission. Registration required. Wells Reserve at Laudholm. 207-646-1555 or wellsreserve.org/kayak.<br />\n&nbsp\;
LOCATION:Wells Reserve at Laudholm 342 Laudholm Farm Rd Wells ME 04090 wellsreserve.org
UID:e.3240.3234
SEQUENCE:3
DTSTAMP:20260424T151343Z
URL:https://www.wellschamber.org/events/details/kayaking-on-the-little-river-estuary-3234
END:VEVENT

END:VCALENDAR
