BEGIN:VCALENDAR
VERSION:2.0
PRODID:-//ChamberMaster//Event Calendar 2.0//EN
METHOD:PUBLISH
X-PUBLISHED-TTL:P3D
REFRESH-INTERVAL:P3D
CALSCALE:GREGORIAN
BEGIN:VEVENT
DTSTART:20220701T160000Z
DTEND:20220701T190000Z
X-MICROSOFT-CDO-ALLDAYEVENT:FALSE
SUMMARY:Kayaking on the Little River Estuary
DESCRIPTION:Friday\, July 1\, 12-3pm\n\nKayaking on the Little River Estuary. Paddle the quiet waters of a Maine estuary\, watching for wildlife and learning about this treasured habitat from a registered Maine Kayak Guide. For ages 12 and up. Some restrictions apply. $60/$48 plus site admission. Registration required. Wells Reserve at Laudholm. 207-646-1555 or wellsreserve.org/kayak.
X-ALT-DESC;FMTTYPE=text/html:<span style="font-family:calibri\,sans-serif\;"><span style="font-size:11.0pt\;">Friday\, July 1\, 12-3pm</span></span><br />\n<span style="font-family:calibri\,sans-serif\;"><span style="font-size:11.0pt\;">Kayaking on the Little River Estuary. Paddle the quiet waters of a Maine estuary\, watching for wildlife and learning about this treasured habitat from a registered Maine Kayak Guide. For ages 12 and up. Some restrictions apply. $60/$48 plus site admission. Registration required. Wells Reserve at Laudholm. 207-646-1555 or wellsreserve.org/kayak.</span></span><br />\n&nbsp\;
LOCATION:Wells Reserve at Laudholm 342 Laudholm Farm Rd Wells ME 04090 wellsreserve.org
UID:e.3240.3224
SEQUENCE:3
DTSTAMP:20260424T151344Z
URL:https://www.wellschamber.org/events/details/kayaking-on-the-little-river-estuary-3224
END:VEVENT

END:VCALENDAR
