BEGIN:VCALENDAR
VERSION:2.0
PRODID:-//ChamberMaster//Event Calendar 2.0//EN
METHOD:PUBLISH
X-PUBLISHED-TTL:P3D
REFRESH-INTERVAL:P3D
CALSCALE:GREGORIAN
BEGIN:VEVENT
DTSTART:20221015T210000Z
DTEND:20221015T230000Z
X-MICROSOFT-CDO-ALLDAYEVENT:FALSE
SUMMARY:K of C Meatball & Pasta Dinner
DESCRIPTION:The William J. Kelly Council 9782 Knights of Columbus invite you to join them for their Meatball & Pasta Dinner on Saturday\, October 15 from 5:00-7:00pm.\n\n\n\n$12 for adults 8 and up\, $8 for kids 3-7 years and under 3 are free.  "To Go" meals are available for $12.\n\n\n\nTickets are available at St. Mary's Church before and after weekly Mass or contact Bob Marlowe at 207-646-6870.\n\n\n\nClick here to see the flyer.
X-ALT-DESC;FMTTYPE=text/html:The William J. Kelly Council 9782 Knights of Columbus invite you to join them for their Meatball &amp\; Pasta Dinner on Saturday\, October 15 from 5:00-7:00pm.<br />\n<br />\n$12 for adults 8 and up\, $8 for kids 3-7 years and under 3 are free.&nbsp\; &quot\;To Go&quot\; meals are available for $12.<br />\n<br />\nTickets are available at St. Mary&#39\;s Church before and after weekly Mass or contact Bob Marlowe at 207-646-6870.<br />\n<br />\nClick <a href="https://chambermaster.blob.core.windows.net/userfiles/UserFiles/chambers/3240/File/KofCPastadinner.pdf">here</a> to see the flyer.<br />\n&nbsp\;
LOCATION:St. Mary's Church Hall\, 236 Eldridge Road\, Wells.
UID:e.3240.3340
SEQUENCE:3
DTSTAMP:20260424T101126Z
URL:https://www.wellschamber.org/events/details/k-of-c-meatball-pasta-dinner-3340
END:VEVENT

END:VCALENDAR
