BEGIN:VCALENDAR
VERSION:2.0
PRODID:-//ChamberMaster//Event Calendar 2.0//EN
METHOD:PUBLISH
X-PUBLISHED-TTL:P3D
REFRESH-INTERVAL:P3D
CALSCALE:GREGORIAN
BEGIN:VEVENT
DTSTART:20240831T230000Z
DTEND:20240901T003000Z
X-MICROSOFT-CDO-ALLDAYEVENT:FALSE
SUMMARY:Jimmy Keys
DESCRIPTION:"He's a cross between Elton John (in that he sings and plays the piano) and Robin Williams (in that his comedy is off-the-wall). His show is packed with comedy\, visual musical impressions and favorite Broadway songs\, wrapped around some of the most exciting piano playing and audience participation that you will ever witness."\n\n\n\nThis event held inside in our Upstairs Listening Room.
X-ALT-DESC;FMTTYPE=text/html:<div>&ldquo\;He&rsquo\;s a cross between Elton John (in that he sings and plays the piano) and Robin Williams (in that his comedy is off-the-wall). His show is packed with comedy\, visual musical impressions and favorite Broadway songs\, wrapped around some of the most exciting piano playing and audience participation that you will ever witness.&rdquo\;<br />\n<br />\n<em><strong>This event held inside in our Upstairs Listening Room.</strong></em></div>\n\n<div>&nbsp\;</div>\n\n<div>&nbsp\;</div>\n
LOCATION:92 Bourne Lane OGT\, ME Just one block from the OGT Playhouse
UID:e.3240.4372
SEQUENCE:3
DTSTAMP:20260422T215154Z
URL:https://www.wellschamber.org/events/details/jimmy-keys-08-31-2024-4372
END:VEVENT

END:VCALENDAR
