BEGIN:VCALENDAR
VERSION:2.0
PRODID:-//ChamberMaster//Event Calendar 2.0//EN
METHOD:PUBLISH
X-PUBLISHED-TTL:P3D
REFRESH-INTERVAL:P3D
CALSCALE:GREGORIAN
BEGIN:VEVENT
DTSTART:20220715T140000Z
DTEND:20220715T153000Z
X-MICROSOFT-CDO-ALLDAYEVENT:FALSE
SUMMARY:Historique de la Ferme Laudholm
DESCRIPTION:Friday\, July 15\, 10-11:30am\n\nHistorique de la Ferme Laudholm. Revivez les histoires du pass  de cet endroit jusqu'  sa vocation d'aujourd'hui. Free with site admission. Registration required at caryn@wellsnerr.org or 207-646-1555 ext 110. FMI wellsreserve.org/calendar.
X-ALT-DESC;FMTTYPE=text/html:Friday\, July 15\, 10-11:30am<br />\n<span style="font-family:calibri\,sans-serif\;"><span style="font-size:11.0pt\;">Historique de la Ferme Laudholm.</span></span> <span style="font-family:calibri\,sans-serif\;"><span style="font-size:11.0pt\;">Revivez les histoires du pass&eacute\; de cet endroit jusqu&#39\;&agrave\; sa vocation d&#39\;aujourd&#39\;hui. </span></span><span style="font-family:calibri\,sans-serif\;"><span style="font-size:11.0pt\;">Free with site admission. Registration required at caryn@wellsnerr.org or 207-646-1555 ext 110. </span></span><span style="font-family:calibri\,sans-serif\;"><span style="font-size:11.0pt\;">FMI wellsreserve.org/calendar.</span></span><br />\n&nbsp\;
LOCATION:Wells Reserve at Laudholm 342 Laudholm Farm Rd Wells ME 04090 wellsreserve.org
UID:e.3240.3235
SEQUENCE:3
DTSTAMP:20260424T152053Z
URL:https://www.wellschamber.org/events/details/historique-de-la-ferme-laudholm-3235
END:VEVENT

END:VCALENDAR
