BEGIN:VCALENDAR
VERSION:2.0
PRODID:-//ChamberMaster//Event Calendar 2.0//EN
METHOD:PUBLISH
X-PUBLISHED-TTL:P3D
REFRESH-INTERVAL:P3D
CALSCALE:GREGORIAN
BEGIN:VEVENT
DTSTART:20231031T213000Z
DTEND:20231031T224500Z
X-MICROSOFT-CDO-ALLDAYEVENT:FALSE
SUMMARY:Haunted New England with Chris Daley
DESCRIPTION:Join Chris Daley and the Wells Public Library for a spooky evening of history and hauntings. This presentation melds historical fact together with legend and myth to produce an interesting and fascinating new look at events that really happened and the stories of hauntings that followed them. We will be covering local folklore such as Mercy Brown\, "The Vampire\," of Exeter Rhode Island\, the murders & ghosts of Smuttynose Island\, Maine\, The horrors of the Lizzie Borden House in Fall River Massachusetts\, a haunted forest in the wilds of Connecticut\, the ghostly happenings at Mount Washington Hotel in New Hampshire\, and evidence of ghosts at the John Alden House in Duxbury Massachusetts.  For more information\, please contact Stefanie Claydon at sclaydon@wellstown.org or by calling the library at 207-646-8181.
X-ALT-DESC;FMTTYPE=text/html:<span style="color:black">Join Chris Daley and the Wells Public Library for a spooky evening of history and hauntings. This presentation melds historical fact together with legend and myth to produce an interesting and fascinating new look at events that really happened and the stories of hauntings that followed them. We will be covering local folklore such as Mercy Brown\, &quot\;The Vampire\,&quot\; of Exeter Rhode Island\, the murders &amp\; ghosts of Smuttynose Island\, Maine\, The horrors of the Lizzie Borden House in Fall River Massachusetts\, a haunted forest in the wilds of Connecticut\, the ghostly happenings at Mount Washington Hotel in New Hampshire\, and evidence of ghosts at the John Alden House in Duxbury Massachusetts.&nbsp\; </span><span style="color:#050505">For more information\, please contact Stefanie Claydon at sclaydon@wellstown.org or by calling the library at 207-646-8181.</span>
LOCATION:Wells Public Library 1434 Post Road\, Route 1\, Wells
UID:e.3240.4055
SEQUENCE:3
DTSTAMP:20260423T121019Z
URL:https://www.wellschamber.org/events/details/haunted-new-england-with-chris-daley-4055
END:VEVENT

END:VCALENDAR
