BEGIN:VCALENDAR
VERSION:2.0
PRODID:-//ChamberMaster//Event Calendar 2.0//EN
METHOD:PUBLISH
X-PUBLISHED-TTL:P3D
REFRESH-INTERVAL:P3D
CALSCALE:GREGORIAN
BEGIN:VEVENT
DTSTART:20231006T143000Z
DTEND:20231006T153000Z
X-MICROSOFT-CDO-ALLDAYEVENT:FALSE
SUMMARY:Great Decisions Discussion Group
DESCRIPTION:Join with other community members at the library for lively and informative discussions on the major global issues of our time. This month's topic is Climate Migration. Meetings center on topics outlined in the Great Decisions briefing book provided by the Foreign Policy Association.  October's discussion will focus on Climate Migration.\n\n\n\nBooks may be purchased online at fpa.org/great_decisions or facebook.com/greatdecisions. The library will have one copy on reserve.\n\n\n\nFor more information\, please contact Stefanie Claydon at sclaydon@wellstown.org or call the library at 207-646-8181.
X-ALT-DESC;FMTTYPE=text/html:<span style="color:rgb(0\, 0\, 0)\; font-family:arial\,helvetica\,sans-serif\; font-size:14px">Join with other community members at the library for lively and informative discussions on the major global issues of our time. This month&rsquo\;s topic is Climate Migration. Meetings center on topics outlined in the Great Decisions briefing book provided by the Foreign Policy Association.&nbsp\; October&#39\;s discussion will focus on Climate Migration.</span><br />\n<br />\n<span style="color:rgb(0\, 0\, 0)\; font-family:arial\,helvetica\,sans-serif\; font-size:14px">Books may be purchased online at&nbsp\;</span><a href="https://fpa.org/great_decisions/" style="font-family: Arial\, Helvetica\, sans-serif\; font-size: 14px\;" target="_blank">fpa.org/great_decisions</a><span style="color:rgb(0\, 0\, 0)\; font-family:arial\,helvetica\,sans-serif\; font-size:14px">&nbsp\;or&nbsp\;</span><a href="https://www.facebook.com/greatdecisions" style="font-family: Arial\, Helvetica\, sans-serif\; font-size: 14px\;" target="_blank">facebook.com/greatdecisions</a><span style="color:rgb(0\, 0\, 0)\; font-family:arial\,helvetica\,sans-serif\; font-size:14px">. The library will have one copy on reserve.</span><br />\n<br />\n<span style="color:rgb(0\, 0\, 0)\; font-family:arial\,helvetica\,sans-serif\; font-size:14px">For more information\, please contact Stefanie Claydon at&nbsp\;</span><a href="mailto:sclaydon@wellstown.org" style="font-family: Arial\, Helvetica\, sans-serif\; font-size: 14px\;">sclaydon@wellstown.org</a><span style="color:rgb(0\, 0\, 0)\; font-family:arial\,helvetica\,sans-serif\; font-size:14px">&nbsp\;or call the library at 207-646-8181.</span>
LOCATION:Wells Public Library 1434 Post Road\, Route 1\, Wells
UID:e.3240.4049
SEQUENCE:3
DTSTAMP:20260423T134606Z
URL:https://www.wellschamber.org/events/details/great-decisions-discussion-group-10-06-2023-4049
END:VEVENT

END:VCALENDAR
