BEGIN:VCALENDAR
VERSION:2.0
PRODID:-//ChamberMaster//Event Calendar 2.0//EN
METHOD:PUBLISH
X-PUBLISHED-TTL:P3D
REFRESH-INTERVAL:P3D
CALSCALE:GREGORIAN
BEGIN:VEVENT
DTSTART:20220708T143000Z
DTEND:20220708T153000Z
X-MICROSOFT-CDO-ALLDAYEVENT:FALSE
SUMMARY:Great Decisions
DESCRIPTION:Great Decisions \n\nFriday\, July 8 at 10:30 am\n\nGreat Decisions is back at the Wells Public Library. Join with other community members at the library for lively and informative discussions on the major global issues of our time. Meetings center on topics outlined in the Great Decisions briefing book provided by the Foreign Policy Association. Facilitator for the meetings\, John Randazzo has led Great Decisions discussion groups since 2016\, both in Maine and Florida. For more information\, please contact Stefanie Claydon at sclaydon@wellstown.org or call the library at 207-646-8181.
X-ALT-DESC;FMTTYPE=text/html:<strong><span style="background:white\;"><span style="color:#336600\;"><span style="font-family:arial\,sans-serif\;"><span style="font-size:11.0pt\;">Great Decisions </span></span></span></span></strong><br />\n<strong><span style="background:white\;"><span style="color:black\;"><span style="font-family:arial\,sans-serif\;"><span style="font-size:9.0pt\;">Friday\, July 8 at 10:30 am</span></span></span></span></strong><br />\n<span style="background:white\;"><span style="color:#050505\;"><span style="font-family:calibri\,sans-serif\;"><span style="font-size:11.0pt\;">Great Decisions is back at the Wells Public Library. Join with other community members at the library for lively and informative discussions on the major global issues of our time. Meetings center on topics outlined in the Great Decisions briefing book provided by the Foreign Policy Association. Facilitator for the meetings\, John Randazzo has led Great Decisions discussion groups since 2016\, both in Maine and Florida.&nbsp\;</span></span></span></span><span style="color:black\;"><span style="font-family:calibri\,sans-serif\;"><span style="font-size:11.0pt\;">For more information\, please contact Stefanie Claydon at sclaydon@wellstown.org or call the library at 207-646-8181.</span></span></span><br />\n&nbsp\;
LOCATION:WELLS PUBLIC LIBRARY 1434 Post Road\, Wells\, ME 04090
UID:e.3240.3260
SEQUENCE:3
DTSTAMP:20260424T151902Z
URL:https://www.wellschamber.org/events/details/great-decisions-3260
END:VEVENT

END:VCALENDAR
