BEGIN:VCALENDAR
VERSION:2.0
PRODID:-//ChamberMaster//Event Calendar 2.0//EN
METHOD:PUBLISH
X-PUBLISHED-TTL:P3D
REFRESH-INTERVAL:P3D
CALSCALE:GREGORIAN
BEGIN:VEVENT
DTSTART:20230705T200000Z
DTEND:20230706T000000Z
X-MICROSOFT-CDO-ALLDAYEVENT:FALSE
SUMMARY:Friends Supporting the Wells Public Library: Congdon's After Dark
DESCRIPTION:Congdon's After Dark is a fun\, family-friendly experience for all\, with delicious and diverse food options\, live music\, a Maine-centric Beer Garden\, weekly fundraisers\, and much more!  Pets are welcome (leashed please!) Admission and parking is free with plenty of indoor and outdoor seating.  June 27th's Tithing Tuesday is benefiting the Friends Supporting the Wells Public Library\, so come on down and get some great food and maybe sign up to become a Friend of the library.
X-ALT-DESC;FMTTYPE=text/html:Congdon&#39\;s After Dark is a fun\, family-friendly experience for all\, with delicious and diverse food options\, live music\, a Maine-centric Beer Garden\, weekly fundraisers\, and much more!&nbsp\; Pets are welcome (leashed please!) Admission and parking is free with plenty of indoor and outdoor seating.&nbsp\; June 27th&#39\;s Tithing Tuesday is benefiting the Friends Supporting the Wells Public Library\, so come on down and get some great food and maybe sign up to become a Friend of the library.&nbsp\;
LOCATION:1090 Post Road Wells\, ME 04090
UID:e.3240.3801
SEQUENCE:3
DTSTAMP:20260423T194326Z
URL:https://www.wellschamber.org/events/details/friends-supporting-the-wells-public-library-congdon-s-after-dark-3801
END:VEVENT

END:VCALENDAR
