BEGIN:VCALENDAR
VERSION:2.0
PRODID:-//ChamberMaster//Event Calendar 2.0//EN
METHOD:PUBLISH
X-PUBLISHED-TTL:P3D
REFRESH-INTERVAL:P3D
CALSCALE:GREGORIAN
BEGIN:VEVENT
DTSTART:20231006T210000Z
DTEND:20231007T000000Z
X-MICROSOFT-CDO-ALLDAYEVENT:FALSE
SUMMARY:Free First Friday with OMAA
DESCRIPTION:We are excited to announce First Fridays at OMAA! This season\, the museum will stay open late on the First Friday of every month\, and will be offering free admission to all visitors between 5pm and 8pm. Come enjoy the museum until 8:00pm!\n\nFREE FIRST FRIDAYS ARE MADE POSSIBLE WITH GENEROUS SUPPORT FROM THE NINE WICKET FUND AT THE MAINE COMMUNITY FOUNDATION.
X-ALT-DESC;FMTTYPE=text/html:<div>\n<div>\n<div>\n<div>\n<div>We are excited to announce First Fridays at OMAA! This season\, the museum will stay open late on the First Friday of every month\, and&nbsp\;will be offering&nbsp\;free admission to all visitors between 5pm and 8pm. Come enjoy the museum until 8:00pm!</div>\n\n<h5>FREE FIRST FRIDAYS ARE MADE POSSIBLE WITH GENEROUS SUPPORT FROM THE NINE WICKET FUND AT THE MAINE COMMUNITY FOUNDATION.</h5>\n</div>\n</div>\n</div>\n</div>\n\n<div>\n<div>\n<div>\n<div>&nbsp\;</div>\n</div>\n</div>\n</div>\n
LOCATION:Ogunquit Museum of American Art 543 Shore Road Ogunquit\, ME 03907
UID:e.3240.3728
SEQUENCE:3
DTSTAMP:20260423T140451Z
URL:https://www.wellschamber.org/events/details/free-first-friday-with-omaa-10-06-2023-3728
END:VEVENT

END:VCALENDAR
