BEGIN:VCALENDAR
VERSION:2.0
PRODID:-//ChamberMaster//Event Calendar 2.0//EN
METHOD:PUBLISH
X-PUBLISHED-TTL:P3D
REFRESH-INTERVAL:P3D
CALSCALE:GREGORIAN
BEGIN:VEVENT
DTSTART:20220725T150000Z
DTEND:20220725T160000Z
X-MICROSOFT-CDO-ALLDAYEVENT:FALSE
SUMMARY:Flying Jewels
DESCRIPTION:Monday\, July 25\, 11am-12pm\n\nFlying Jewels: Dragonflies and Butterflies of Southern Maine. Get to know some charismatic insects with Sue Bickford at the Wells Reserve at Laudholm. Learn about life cycles and habitats of these beautiful creatures\, then try your hand at catching them. $8/$6 or $20/$15 per family plus site admission. Registration required at suzanne@wellsnerr.org or 207-646-1555 x116. FMI wellsreserve.org/calendar.
X-ALT-DESC;FMTTYPE=text/html:<span style="font-family:calibri\,sans-serif\;"><span style="font-size:11.0pt\;">Monday\, July 25\, 11am-12pm</span></span><br />\nFlying Jewels: Dragonflies and Butterflies of Southern Maine. Get to know some charismatic insects with Sue Bickford at the Wells Reserve at Laudholm. Learn about life cycles and habitats of these beautiful creatures\, then try your hand at catching them. $8/$6 or $20/$15 per family plus site admission. Registration required at suzanne@wellsnerr.org or 207-646-1555 x116. FMI wellsreserve.org/calendar.<br />\n&nbsp\;
LOCATION:Wells Reserve at Laudholm 342 Laudholm Farm Rd Wells ME 04090 wellsreserve.org
UID:e.3240.3243
SEQUENCE:3
DTSTAMP:20260424T151919Z
URL:https://www.wellschamber.org/events/details/flying-jewels-3243
END:VEVENT

END:VCALENDAR
