BEGIN:VCALENDAR
VERSION:2.0
PRODID:-//ChamberMaster//Event Calendar 2.0//EN
METHOD:PUBLISH
X-PUBLISHED-TTL:P3D
REFRESH-INTERVAL:P3D
CALSCALE:GREGORIAN
BEGIN:VEVENT
DTSTART:20241207T170000Z
DTEND:20241208T010000Z
X-MICROSOFT-CDO-ALLDAYEVENT:FALSE
SUMMARY:Festival of Trees
DESCRIPTION:Join Us at the 2024 Festival of Trees and Win a Tree to Take Home!\n\nCome wander through a winter wonderland of trees\, each uniquely decorated by local businesses\, individuals and organizations. Purchase raffle tickets at the door for a chance to win your favorite tree to take home for the holidays!\n\n\n\nSponsored by the Wells Rotary Club\n\nProceeds to benefit Wreaths Across America and Local Families in Need
X-ALT-DESC;FMTTYPE=text/html:Join Us at the 2024 Festival of Trees and Win a Tree to Take Home!<br />\nCome wander through a winter wonderland of trees\, each uniquely decorated by local businesses\, individuals and organizations. Purchase raffle tickets at the door for a chance to win your favorite tree to take home for the holidays!<br />\n<br />\nSponsored by the Wells Rotary Club<br />\nProceeds to benefit Wreaths Across America and Local Families in Need<br />\n<br />\n&nbsp\;
LOCATION:For the Love of Food & Drink 411 Post Road\, Route 1\, Wells
UID:e.3240.4604
SEQUENCE:3
DTSTAMP:20260422T082314Z
URL:https://www.wellschamber.org/events/details/festival-of-trees-4604
END:VEVENT

END:VCALENDAR
