BEGIN:VCALENDAR
VERSION:2.0
PRODID:-//ChamberMaster//Event Calendar 2.0//EN
METHOD:PUBLISH
X-PUBLISHED-TTL:P3D
REFRESH-INTERVAL:P3D
CALSCALE:GREGORIAN
BEGIN:VEVENT
DTSTART:20220720T140000Z
DTEND:20220720T160000Z
X-MICROSOFT-CDO-ALLDAYEVENT:FALSE
SUMMARY:Explore the Shore
DESCRIPTION:Wednesday\, July 20\, 10am-12pm\n\nExplore the Shore. The treasures we find on the beach can tell us stories about the land\, the ocean\, and the beach itself. While strolling Laudholm Beach\, we will explore questions about the sand\, the wrack line\, and found objects. Free with site admission. Registration required at 207-646-1555 ext 110 or caryn@wellsnerr.org. FMI wellsreserve.org/calendar.
X-ALT-DESC;FMTTYPE=text/html:<span style="font-family:calibri\,sans-serif\;"><span style="font-size:11.0pt\;">Wednesday\, July 20\, 10am-12pm</span></span><br />\n<span style="color:black\;">Explore the Shore. The treasures we find on the beach can tell us stories about the land\, the ocean\, and the beach itself.&nbsp\;While strolling Laudholm Beach\, we will explore questions about the sand\, the wrack line\, and found objects. </span>Free with site admission. <span style="color:black\;">Registration required at 207-646-1555 ext 110 or caryn@wellsnerr.org. FMI </span>wellsreserve.org/calendar.<br />\n&nbsp\;
LOCATION:Wells Reserve at Laudholm 342 Laudholm Farm Rd Wells ME 04090 wellsreserve.org
UID:e.3240.3240
SEQUENCE:3
DTSTAMP:20260424T150724Z
URL:https://www.wellschamber.org/events/details/explore-the-shore-3240
END:VEVENT

END:VCALENDAR
