BEGIN:VCALENDAR
VERSION:2.0
PRODID:-//ChamberMaster//Event Calendar 2.0//EN
METHOD:PUBLISH
X-PUBLISHED-TTL:P3D
REFRESH-INTERVAL:P3D
CALSCALE:GREGORIAN
BEGIN:VEVENT
DTSTART:20230618T010000Z
DTEND:20230618T023000Z
X-MICROSOFT-CDO-ALLDAYEVENT:FALSE
SUMMARY:Elvis Tribute Show
DESCRIPTION:Robert Black is an Award Winning Tribute Artist performing nationwide. Robert Black's authentic portrayal and exciting interpretation of Elvis Presley\, has made him one of the country's most sought after\, and popular tribute performers. A true professional\, Robert's crowd pleasing style\, and spot-on mannerisms mixed with his unique blend of vocal talent\, charisma\, and elaborate costuming make him a favorite of fans worldwide.
X-ALT-DESC;FMTTYPE=text/html:<span style="background-color:rgb(238\, 238\, 238)\; color:rgb(51\, 51\, 51)\; font-family:open sans\,arial\,helvetica\,sans-serif\; font-size:14px">Robert Black is an Award Winning Tribute Artist performing nationwide. Robert Black&rsquo\;s authentic portrayal and exciting interpretation of Elvis Presley\, has made him one of the country&rsquo\;s most sought after\, and popular tribute performers. A true professional\, Robert&rsquo\;s crowd pleasing style\, and spot-on mannerisms mixed with his unique blend of vocal talent\, charisma\, and elaborate costuming make him a favorite of fans worldwide.</span>
LOCATION:92 Bourne Lane Ogunquit\, ME
UID:e.3240.3502
SEQUENCE:3
DTSTAMP:20260423T193700Z
URL:https://www.wellschamber.org/events/details/elvis-tribute-show-3502
END:VEVENT

END:VCALENDAR
