BEGIN:VCALENDAR
VERSION:2.0
PRODID:-//ChamberMaster//Event Calendar 2.0//EN
METHOD:PUBLISH
X-PUBLISHED-TTL:P3D
REFRESH-INTERVAL:P3D
CALSCALE:GREGORIAN
BEGIN:VEVENT
DTSTART:20220711T130000Z
DTEND:20220711T190000Z
X-MICROSOFT-CDO-ALLDAYEVENT:FALSE
SUMMARY:Eco Nuts Summer Day Camp
DESCRIPTION:Monday\, July 11\, 9am-3pm\n\nEco Nuts Summer Day Camp. Hike\, kayak\, and explore environmental issues at the Wells Reserve at Laudholm. Learn about plants\, animals\, habitats\, and climate change. Week-long day camp for ages 12 to 14. $300/$240. Registration required\; see wellsreserve.org/camps.
X-ALT-DESC;FMTTYPE=text/html:<span style="font-family:calibri\,sans-serif\;"><span style="font-size:11.0pt\;">Monday\, July 11\, 9am-3pm</span></span><br />\n<span style="font-family:calibri\,sans-serif\;"><span style="font-size:11.0pt\;">Eco Nuts Summer Day Camp. Hike\, kayak\, and explore environmental issues at the Wells Reserve at Laudholm. Learn about plants\, animals\, habitats\, and climate change. Week-long day camp for ages 12 to 14. $300/$240. Registration required\; see wellsreserve.org/camps.</span></span><br />\n&nbsp\;
LOCATION:Wells Reserve at Laudholm 342 Laudholm Farm Rd Wells ME 04090 wellsreserve.org
UID:e.3240.3230
SEQUENCE:3
DTSTAMP:20260424T151005Z
URL:https://www.wellschamber.org/events/details/eco-nuts-summer-day-camp-3230
END:VEVENT

END:VCALENDAR
