BEGIN:VCALENDAR
VERSION:2.0
PRODID:-//ChamberMaster//Event Calendar 2.0//EN
METHOD:PUBLISH
X-PUBLISHED-TTL:P3D
REFRESH-INTERVAL:P3D
CALSCALE:GREGORIAN
BEGIN:VEVENT
DTSTART:20230709T170000Z
DTEND:20230709T180000Z
X-MICROSOFT-CDO-ALLDAYEVENT:FALSE
SUMMARY:Disney's Finding Nemo Jr
DESCRIPTION:Disney's Finding Nemo JR is a 60-minute musical adaptation of the beloved 2003 Pixar movie Finding Nemo\, with new music by award-winning songwriting team Kristen Anderson-Lopez and Robert Lopez. Marlin\, an anxious and over-protective clownfish\, lives in the Great Barrier Reef with his kid Nemo\, who longs to explore the world beyond their anemone home. But when Nemo is captured and taken to Sydney\, Marlin faces his fears and sets off on an epic adventure across the ocean. With the help of lovable characters such as optimistic Dory\, laid-back sea turtle Crush\, and the supportive Tank Gang\, Marlin and Nemo both overcome challenges on their journey to find each other and themselves.
X-ALT-DESC;FMTTYPE=text/html:<div style="margin-left:-17px\; margin-right:-17px">\n<div>\n<div>\n<div>\n<p><em>Disney&rsquo\;s Finding Nemo JR</em> is a 60-minute musical adaptation of the beloved 2003 Pixar movie Finding Nemo\, with new music by award-winning songwriting team Kristen Anderson-Lopez and Robert Lopez. Marlin\, an anxious and over-protective clownfish\, lives in the Great Barrier Reef with his kid Nemo\, who longs to explore the world beyond their anemone home. But when Nemo is captured and taken to Sydney\, Marlin faces his fears and sets off on an epic adventure across the ocean. With the help of lovable characters such as optimistic Dory\, laid-back sea turtle Crush\, and the supportive Tank Gang\, Marlin and Nemo both overcome challenges on their journey to find each other and themselves.</p>\n</div>\n</div>\n</div>\n</div>\n\n<div style="margin-left:-17px\; margin-right:-17px">\n<div>\n<div>&nbsp\;</div>\n</div>\n</div>\n
LOCATION:Ogunquit Playhouse
UID:e.3240.3424
SEQUENCE:3
DTSTAMP:20260423T193810Z
URL:https://www.wellschamber.org/events/details/disney-s-finding-nemo-jr-07-09-2023-3424
END:VEVENT

END:VCALENDAR
