BEGIN:VCALENDAR
VERSION:2.0
PRODID:-//ChamberMaster//Event Calendar 2.0//EN
METHOD:PUBLISH
X-PUBLISHED-TTL:P3D
REFRESH-INTERVAL:P3D
CALSCALE:GREGORIAN
BEGIN:VEVENT
DTSTART:20221008T130000Z
DTEND:20221008T190000Z
X-MICROSOFT-CDO-ALLDAYEVENT:FALSE
SUMMARY:Discover Your Wild
DESCRIPTION:Fun and creative outdoor activities - live falcon shows\, archery\, nature journaling\, canoeing\, interactive and prizes.  Click here for the schedule of events.
X-ALT-DESC;FMTTYPE=text/html:Fun and creative outdoor activities - live falcon shows\, archery\, nature journaling\, canoeing\, interactive and prizes.&nbsp\; Click <a href="https://chambermaster.blob.core.windows.net/userfiles/UserFiles/chambers/3240/File/RachelCarsonDiscoveryourWild.pdf">here</a> for the schedule of events.
LOCATION:Rachel Carson National Wildlife Refuge\, 188 Brown Street\, Kennebunk\, ME 04043
UID:e.3240.3339
SEQUENCE:3
DTSTAMP:20260424T100643Z
URL:https://www.wellschamber.org/events/details/discover-your-wild-3339
END:VEVENT

END:VCALENDAR
