BEGIN:VCALENDAR
VERSION:2.0
PRODID:-//ChamberMaster//Event Calendar 2.0//EN
METHOD:PUBLISH
X-PUBLISHED-TTL:P3D
REFRESH-INTERVAL:P3D
CALSCALE:GREGORIAN
BEGIN:VEVENT
DTSTART:20220730T010000Z
DTEND:20220730T030000Z
X-MICROSOFT-CDO-ALLDAYEVENT:FALSE
SUMMARY:Disco Night hosted by DJ Metrix
DESCRIPTION:Dust off your bellbottoms\, polyester and platforms and get ready to disco dance into the evening as DJ Metrix spins your favs! Disco attire encouraged. 21+\n\n\n\nThe Runaway on Sanford Seacoast Regional Airport is Southern Maine's premier entertainment venue boasting an outdoor craft beer garden with 27 taps\, cocktail bar and full food menu.\n\n\n\nIG/FB @therunawayatpcc\n\n\n\nTickets available now at www.therunawayatpcc.com\n\n\n\n?21+ show - must have valid ID for entry
X-ALT-DESC;FMTTYPE=text/html:Dust off your bellbottoms\, polyester and platforms and get ready to disco dance into the evening as DJ Metrix spins your favs! Disco attire encouraged. 21+<br />\n<br />\nThe Runaway on Sanford Seacoast Regional Airport is Southern Maine&#39\;s premier entertainment venue boasting an outdoor craft beer garden with 27 taps\, cocktail bar and full food menu.<br />\n<br />\nIG/FB @therunawayatpcc<br />\n<br />\nTickets available now at www.therunawayatpcc.com<br />\n<br />\n?21+ show - must have valid ID for entry
LOCATION:199 Airport Rd Sanford\, Maine
UID:e.3240.2703
SEQUENCE:3
DTSTAMP:20260424T151038Z
URL:https://www.wellschamber.org/events/details/disco-night-hosted-by-dj-metrix-2703
END:VEVENT

END:VCALENDAR
