BEGIN:VCALENDAR
VERSION:2.0
PRODID:-//ChamberMaster//Event Calendar 2.0//EN
METHOD:PUBLISH
X-PUBLISHED-TTL:P3D
REFRESH-INTERVAL:P3D
CALSCALE:GREGORIAN
BEGIN:VEVENT
DTSTART:20221008T000000Z
DTEND:20221008T013000Z
X-MICROSOFT-CDO-ALLDAYEVENT:FALSE
SUMMARY:Cris Williamson in Concert
DESCRIPTION:Cris Williamson is an American feminist singer-songwriter\, who achieved fame as a recording artist\, and who was a pioneer as a visible lesbian political activist\, during a time when few who were not connected to the Lesbian community were aware of Gay and Lesbian issues. Williamson's music and insight has served as a catalyst for change in the creation of women-owned record companies in the 1970s. Using her musical talents\, networking with other lesbian artists of musical quality\, and her willingness to represent those who did not yet feel safe in speaking for themselves\, Williamson is remembered by many in the Gay\, Lesbian\, Bisexual\, and Transgender (GLBT) community for her contributions\, both artistically\, and politically.
X-ALT-DESC;FMTTYPE=text/html:<span style="background-color:rgb(238\, 238\, 238)\; font-family:open sans\,arial\,helvetica\,sans-serif\; font-size:14px">Cris Williamson is an American feminist singer-songwriter\, who achieved fame as a recording artist\, and who was a pioneer as a visible lesbian political activist\, during a time when few who were not connected to the Lesbian community were aware of Gay and Lesbian issues. Williamson&#39\;s music and insight has served as a catalyst for change in the creation of women-owned record companies in the 1970s. Using her musical talents\, networking with other lesbian artists of musical quality\, and her willingness to represent those who did not yet feel safe in speaking for themselves\, Williamson is remembered by many in the Gay\, Lesbian\, Bisexual\, and Transgender (GLBT) community for her contributions\, both artistically\, and politically.</span>
LOCATION:Jonathan's Ogunquit 92 Bourne Lane OGT\, ME 03907 Just around the corner from the OGT Playhouse
UID:e.3240.3315
SEQUENCE:3
DTSTAMP:20260424T114046Z
URL:https://www.wellschamber.org/events/details/cris-williamson-in-concert-10-07-2022-3315
END:VEVENT

END:VCALENDAR
