BEGIN:VCALENDAR
VERSION:2.0
PRODID:-//ChamberMaster//Event Calendar 2.0//EN
METHOD:PUBLISH
X-PUBLISHED-TTL:P3D
REFRESH-INTERVAL:P3D
CALSCALE:GREGORIAN
BEGIN:VEVENT
DTSTART:20221129T230000Z
DTEND:20221130T010000Z
X-MICROSOFT-CDO-ALLDAYEVENT:FALSE
SUMMARY:Cribbage Game Night
DESCRIPTION:Casual monthly game night. Players of all ages and abilities welcome! Free Event sponsored by the Friends of the Wells Public Library. 207-646-8181
X-ALT-DESC;FMTTYPE=text/html:Casual monthly game night. Players of all ages and abilities welcome! Free Event sponsored by the Friends of the Wells Public Library. 207-646-8181
LOCATION:
UID:e.3240.3347
SEQUENCE:3
DTSTAMP:20260424T081638Z
URL:https://www.wellschamber.org/events/details/cribbage-game-night-3347
END:VEVENT

END:VCALENDAR
