BEGIN:VCALENDAR
VERSION:2.0
PRODID:-//ChamberMaster//Event Calendar 2.0//EN
METHOD:PUBLISH
X-PUBLISHED-TTL:P3D
REFRESH-INTERVAL:P3D
CALSCALE:GREGORIAN
BEGIN:VEVENT
DTSTART:20220707T190000Z
DTEND:20220707T200000Z
X-MICROSOFT-CDO-ALLDAYEVENT:FALSE
SUMMARY:Crafty Kids
DESCRIPTION:Crafty Kids\n\nThursdays\, July 7 at 3 p.m. \n\nDrop in art projects include painting\, drawing\, gluing\, collaging\, and more! All programs will be held at the library\, outside if the weather permits. All materials will be provided and all ages are welcome. This free event is sponsored by the Friends of the Wells Public Library. For more information\, please contact Allison Herman at aherman@wellstown.org or call the library at 207-646-8181.
X-ALT-DESC;FMTTYPE=text/html:<strong><span style="color:#336600\;"><span style="font-family:arial\,sans-serif\;">Crafty Kids</span></span></strong><br />\n<strong><span style="font-family:arial\,sans-serif\;"><span style="font-size:9.0pt\;">Thursdays\, July 7 at 3 p.m. </span></span></strong><br />\n<span style="background:white\;"><span style="color:black\;">Drop in art projects include painting\, drawing\, gluing\, collaging\, and more! All programs will be held at the library\, outside if the weather permits. All materials will be provided and all ages are welcome. This free event is sponsored by the Friends of the Wells Public Library.</span></span><span style="color:black\;"> <span style="background:white\;">For more information\, please contact Allison Herman at </span></span><a href="mailto:aherman@wellstown.org"><span style="background:white\;text-decoration:none\;text-underline:none\;"><span style="color:black\;">aherman@wellstown.org</span></span></a><span style="background:white\;"><span style="color:black\;">&nbsp\;or call the library at 207-646-8181. </span></span><br />\n&nbsp\;
LOCATION:WELLS PUBLIC LIBRARY 1434 Post Road\, Wells\, ME 04090
UID:e.3240.3253
SEQUENCE:3
DTSTAMP:20260424T151918Z
URL:https://www.wellschamber.org/events/details/crafty-kids-3253
END:VEVENT

END:VCALENDAR
