BEGIN:VCALENDAR
VERSION:2.0
PRODID:-//ChamberMaster//Event Calendar 2.0//EN
METHOD:PUBLISH
X-PUBLISHED-TTL:P3D
REFRESH-INTERVAL:P3D
CALSCALE:GREGORIAN
BEGIN:VEVENT
DTSTART:20230819T220000Z
DTEND:20230820T010000Z
X-MICROSOFT-CDO-ALLDAYEVENT:FALSE
SUMMARY:Country band Hott Messs live at Pilots Cove Cafe!
DESCRIPTION:Hott Messs!\n\nAn evening of straight up country\, mechanical bull rides\, best dressed competition\, 27 beers on tap and full dinner menu! Dust off your western boots and cowboy/cowgirl hats and come on out for a fun night under the stars!
X-ALT-DESC;FMTTYPE=text/html:<p>Hott Messs!</p>\n\n<p>An evening of straight up country\, mechanical bull rides\, best dressed competition\, 27 beers on tap and full dinner menu! Dust off your western boots and cowboy/cowgirl hats and come on out for a fun night under the stars!</p>\n
LOCATION:199 Airport Rd. Sanford\, Maine
UID:e.3240.3716
SEQUENCE:3
DTSTAMP:20260423T155652Z
URL:https://www.wellschamber.org/events/details/country-band-hott-messs-live-at-pilots-cove-cafe-3716
END:VEVENT

END:VCALENDAR
