BEGIN:VCALENDAR
VERSION:2.0
PRODID:-//ChamberMaster//Event Calendar 2.0//EN
METHOD:PUBLISH
X-PUBLISHED-TTL:P3D
REFRESH-INTERVAL:P3D
CALSCALE:GREGORIAN
BEGIN:VEVENT
DTSTART:20231005T140000Z
DTEND:20231007T220000Z
X-MICROSOFT-CDO-ALLDAYEVENT:FALSE
SUMMARY:COLUMBUS DAY WEEKEND FALL WAREHOUSE SALE
DESCRIPTION:Save up to 70% OFF already reduced Apparel and Accessories
X-ALT-DESC;FMTTYPE=text/html:Save up to 70% OFF already reduced Apparel and Accessories
LOCATION:J.McLaughlin\, 2178 Post Road\, Route 1\, Wells
UID:e.3240.4065
SEQUENCE:3
DTSTAMP:20260423T120910Z
URL:https://www.wellschamber.org/events/details/columbus-day-weekend-fall-warehouse-sale-4065
END:VEVENT

END:VCALENDAR
