BEGIN:VCALENDAR
VERSION:2.0
PRODID:-//ChamberMaster//Event Calendar 2.0//EN
METHOD:PUBLISH
X-PUBLISHED-TTL:P3D
REFRESH-INTERVAL:P3D
CALSCALE:GREGORIAN
BEGIN:VEVENT
DTSTART:20220710T000000Z
DTEND:20220710T020000Z
X-MICROSOFT-CDO-ALLDAYEVENT:FALSE
SUMMARY:Burning Time
DESCRIPTION:Burning Time live at The Runaway
X-ALT-DESC;FMTTYPE=text/html:Burning Time live at The Runaway
LOCATION:199 Airport Road\, Sanford 207-850-1183 www.pilotscovecafe.com
UID:e.3240.2661
SEQUENCE:3
DTSTAMP:20260424T150815Z
URL:https://www.wellschamber.org/events/details/burning-time-2661
END:VEVENT

END:VCALENDAR
