BEGIN:VCALENDAR
VERSION:2.0
PRODID:-//ChamberMaster//Event Calendar 2.0//EN
METHOD:PUBLISH
X-PUBLISHED-TTL:P3D
REFRESH-INTERVAL:P3D
CALSCALE:GREGORIAN
BEGIN:VEVENT
DTSTART;VALUE=DATE:20230916
DTEND;VALUE=DATE:20230917
TRANSP:TRANSPARENT
X-MICROSOFT-CDO-ALLDAYEVENT:TRUE
SUMMARY:Bow Street Beverage Grand Opening
DESCRIPTION:Join us for our Wells Superstore Grand Opening Celebration this Saturday\, September 16!\n\n\n\n\n\nNow open at 655 Post Road\, Wells\, Maine!\n\nAll day we'll have giveaways\, tastings\, special pricing throughout the store\, and you can enter to win some great prizes including an electric bike while you're here (no purchase necessary).\n\nWBLM Live Remote 10-12
X-ALT-DESC;FMTTYPE=text/html:<div>\n<div style="margin-left:-11px\; margin-right:-11px\; text-align:center">\n<div>\n<div>\n<div>\n<div>\n<div>\n<h4>Join us for our Wells Superstore Grand Opening Celebration this Saturday\, September 16!</h4>\n</div>\n</div>\n\n<div>\n<div>\n<p><strong>Now open at 655 Post Road\, Wells\, Maine!</strong><br />\nAll day we&rsquo\;ll have giveaways\, tastings\, special pricing throughout the store\, and you can enter to win some great prizes including an electric bike while you&rsquo\;re here (no purchase necessary).<br />\nWBLM Live Remote 10-12</p>\n</div>\n</div>\n</div>\n</div>\n</div>\n</div>\n</div>\n\n<div style="margin-left:calc(-50vw + var(--scroll-bar-w)/ 2)\; margin-right:0px">\n<div>\n<div>&nbsp\;</div>\n</div>\n</div>\n
LOCATION:655 Post Rd\, Wells
UID:e.3240.3843
SEQUENCE:3
DTSTAMP:20260422T082750Z
URL:https://www.wellschamber.org/events/details/bow-street-beverage-grand-opening-3843
END:VEVENT

END:VCALENDAR
