BEGIN:VCALENDAR
VERSION:2.0
PRODID:-//ChamberMaster//Event Calendar 2.0//EN
METHOD:PUBLISH
X-PUBLISHED-TTL:P3D
REFRESH-INTERVAL:P3D
CALSCALE:GREGORIAN
BEGIN:VEVENT
DTSTART:20230824T200000Z
DTEND:20230824T220000Z
X-MICROSOFT-CDO-ALLDAYEVENT:FALSE
SUMMARY:Boppa Chua! A History of the 1950’s and 60’s through Popular Song
DESCRIPTION:Marc Black\, NY Blues Hall of Fame inductee\, will be your guide for a trip through those memorable and colorful decades\, joyfully woven together in song.  This two-person show is a multi-media and multi-dimensional presentation in song\, storytelling and plenty of laughter.  From bobby socks\, through the space race\, and on to civil rights and classic rock\, audiences have found this show to be entertaining\, inspirational and even a bit educational.  Songs as diverse as Itsy Bitsy Teenie Weenie Yellow Polka-dot Bikini and Blowin' in the Wind lead to spontaneous singing springing up all around the theater.  And to bring this exciting show altogether\, his wife\, Susan\, has created a unique visual presentation that perfectly complements Marc's music filled storytelling.  Together\, Susan and Marc (along with Claudette\, Marc's guitar for more than 4 decades) travel the world and light up the stage night after night with the pure joy of music and memories.  Always leaving the audience feeling great about where we've been  and where we are.\n\nFor more information\, please contact Stefanie Claydon at sclaydon@wellstown.org or by calling the library at 207-646-8181.
X-ALT-DESC;FMTTYPE=text/html:<span style="color:black"><span style="font-family:calibri\,sans-serif"><span style="font-size:11.0pt">Marc Black\, NY Blues Hall of Fame inductee\, will be your guide for a trip through those memorable and colorful decades\, joyfully woven together in song. &nbsp\;This two-person show is a multi-media and multi-dimensional presentation in song\, storytelling and plenty of laughter. &nbsp\;From bobby socks\, through the space race\, and on to civil rights and classic rock\, audiences have found this show to be entertaining\, inspirational and even a bit educational. &nbsp\;Songs as diverse as&nbsp\;<em>Itsy Bitsy Teenie Weenie Yellow Polka-dot Bikini</em>&nbsp\;and&nbsp\;<em>Blowin&rsquo\; in the Wind</em>&nbsp\;lead to spontaneous singing springing up all around the theater.</span></span></span>&nbsp\; <span style="color:black"><span style="font-family:calibri\,sans-serif"><span style="font-size:11.0pt">And to bring this exciting show altogether\, his wife\, Susan\,&nbsp\;has created a unique visual presentation that perfectly complements Marc&rsquo\;s music filled storytelling.</span></span></span>&nbsp\; <span style="color:black"><span style="font-family:calibri\,sans-serif"><span style="font-size:11.0pt">Together\, Susan and Marc (along with Claudette\, Marc&rsquo\;s guitar for more than 4 decades) travel the world and light up the stage night after night with the pure joy of music and memories. &nbsp\;Always leaving the audience feeling great about where we&rsquo\;ve been&hellip\; and where we are.</span></span></span><br />\n<span style="color:#050505"><span style="font-family:calibri\,sans-serif"><span style="font-size:11.0pt">For more information\, please contact Stefanie Claydon at sclaydon@wellstown.org or by calling the library at 207-646-8181.</span></span></span>
LOCATION:Wells Public Library 1434 Post Road Wells\, ME 04090
UID:e.3240.3833
SEQUENCE:3
DTSTAMP:20260423T175755Z
URL:https://www.wellschamber.org/events/details/boppa-chua-a-history-of-the-1950-s-and-60-s-through-popular-song-3833
END:VEVENT

END:VCALENDAR
