BEGIN:VCALENDAR
VERSION:2.0
PRODID:-//ChamberMaster//Event Calendar 2.0//EN
METHOD:PUBLISH
X-PUBLISHED-TTL:P3D
REFRESH-INTERVAL:P3D
CALSCALE:GREGORIAN
BEGIN:VEVENT
DTSTART:20220730T130000Z
DTEND:20220730T160000Z
X-MICROSOFT-CDO-ALLDAYEVENT:FALSE
SUMMARY:Blueberry Fair
DESCRIPTION:Wells Ogunquit Senior Center Blueberry Fair!
X-ALT-DESC;FMTTYPE=text/html:Wells Ogunquit Senior Center Blueberry Fair!<br />\n&nbsp\;
LOCATION:300 Post Road\, Wells
UID:e.3240.3266
SEQUENCE:3
DTSTAMP:20260424T150833Z
URL:https://www.wellschamber.org/events/details/blueberry-fair-3266
END:VEVENT

END:VCALENDAR
