BEGIN:VCALENDAR
VERSION:2.0
PRODID:-//ChamberMaster//Event Calendar 2.0//EN
METHOD:PUBLISH
X-PUBLISHED-TTL:P3D
REFRESH-INTERVAL:P3D
CALSCALE:GREGORIAN
BEGIN:VEVENT
DTSTART:20230903T133000Z
DTEND:20230903T134500Z
X-MICROSOFT-CDO-ALLDAYEVENT:FALSE
SUMMARY:Blessing of the Backpacks
DESCRIPTION:All students\, teachers and school staff are invited to join us as we have a Blessing of the Backpack service. This is a community outreach event. All are welcome! Feel free to bring your backpack/school bag to be blessed on the altar.
X-ALT-DESC;FMTTYPE=text/html:All students\, teachers and school staff are invited to join us as we have a Blessing of the Backpack service. This is a community outreach event. All are welcome! Feel free to bring your backpack/school bag to be blessed on the altar.
LOCATION:Congregational Church of Wells 1695 Post Road Wells\, ME 04090
UID:e.3240.3836
SEQUENCE:3
DTSTAMP:20260422T082539Z
URL:https://www.wellschamber.org/events/details/blessing-of-the-backpacks-3836
END:VEVENT

END:VCALENDAR
